BEGIN:VCALENDAR
VERSION:2.0
METHOD:PUBLISH
PRODID:-//Missouri State University/Calendar of Events//EN
CALSCALE:GREGORIAN
X-WR-TIMEZONE:America/Chicago
BEGIN:VTIMEZONE
TZID:America/Chicago
BEGIN:DAYLIGHT
TZOFFSETFROM:-0600
TZOFFSETTO:-0500
DTSTART:20070311T020000
RRULE:FREQ=YEARLY;BYMONTH=3;BYDAY=2SU
TZNAME:CDT
END:DAYLIGHT
BEGIN:STANDARD
TZOFFSETFROM:-0500
TZOFFSETTO:-0600
DTSTART:20071104T020000
RRULE:FREQ=YEARLY;BYMONTH=11;BYDAY=1SU
TZNAME:CST
END:STANDARD
END:VTIMEZONE
BEGIN:VEVENT
UID:4945f3ac-4124-4f3d-9d94-c6f12738751e.222204@calendar.missouristate.edu
CREATED:20220908T163850Z
LAST-MODIFIED:20220908T163850Z
LOCATION:Plaster Student Union\, Robert W. Theater
SUMMARY:SAC Presents Family Weekend Entertainer: Noah Sonie
DESCRIPTION:Come join SAC for a high energy entertainer!\n\n\nThe show wil
 l be a mix of magic\, mind-reading\, and hypnosis.\n\n\nTickets are requi
 red and can be purchased here.  
X-ALT-DESC;FMTTYPE=text/html:&lt;html&gt;&lt;head&gt;&lt;title&gt;&lt;/title&gt;&lt;/head&gt;&lt;body&gt;&lt;p&gt;Co
 me join SAC for a high energy entertainer!&lt;/p&gt;\n&lt;p&gt;The show will be a mix
  of magic\, mind-reading\, and hypnosis.&lt;/p&gt;\n&lt;p&gt;Tickets are required and
  can be purchased &lt;a href="https://commerce.cashnet.com/cashnetg/static/s
 torefront/SOARFP/catalog" target="_blank"&gt;here&lt;/a&gt;.&amp;nbsp\;&amp;nbsp\;&lt;/p&gt;&lt;/bo
 dy&gt;&lt;/html&gt;
DTSTART;TZID=America/Chicago:20220924T193000
DTEND;TZID=America/Chicago:20220924T220000
SEQUENCE:0
URL:116488.jpg
CATEGORIES:Public,Alumni,Current Students,Faculty,Future Students,Staff
END:VEVENT
END:VCALENDAR