BEGIN:VCALENDAR
VERSION:2.0
METHOD:PUBLISH
PRODID:-//Missouri State University/Calendar of Events//EN
CALSCALE:GREGORIAN
X-WR-TIMEZONE:America/Chicago
BEGIN:VTIMEZONE
TZID:America/Chicago
BEGIN:DAYLIGHT
TZOFFSETFROM:-0600
TZOFFSETTO:-0500
DTSTART:20070311T020000
RRULE:FREQ=YEARLY;BYMONTH=3;BYDAY=2SU
TZNAME:CDT
END:DAYLIGHT
BEGIN:STANDARD
TZOFFSETFROM:-0500
TZOFFSETTO:-0600
DTSTART:20071104T020000
RRULE:FREQ=YEARLY;BYMONTH=11;BYDAY=1SU
TZNAME:CST
END:STANDARD
END:VTIMEZONE
BEGIN:VEVENT
UID:f82ad2a0-41d7-40d4-91b8-71d445059a6a.222207@calendar.missouristate.edu
CREATED:20221003T191922Z
LAST-MODIFIED:20221003T191922Z
LOCATION:Meyer Library\, Duane G. 120
SUMMARY:Media Training: Mastering Media Interviews (Level 2)
DESCRIPTION:Preparation and practice are key to achieving successful media
  interviews. A strong appearance in a newspaper article or on a TV piece 
 reflects well not only on you\, but also your department and the universi
 ty as a whole.\n\n\nThis level 2 media training is for those who already 
 have a good grasp of the interview process\, particularly developing and 
 delivering key messages. In this training\, you'll:\n\n\n\nReview and dis
 cuss case studies of interview successes and gaffes.\nPractice crafting e
 ffective and memorable sound bites.\nEnhance your interviewing skills by 
 participating in a simulated interview based on a customized scenario rel
 evant to your role at the university.\nHear from and engage in a Q&amp;A sess
 ion with KOLR10 anchor Jenifer Abreu.\n\nRegistration is required at My L
 earning Connection in my.missouristate.edu.\n\n\n\nGo to your profile tab
 .\nFind the Professional Development box.\nSelect My Learning Connection.
 \nSearch for this session.\nSign up.
X-ALT-DESC;FMTTYPE=text/html:&lt;html&gt;&lt;head&gt;&lt;title&gt;&lt;/title&gt;&lt;/head&gt;&lt;body&gt;&lt;p&gt;Pr
 eparation and practice are key to achieving successful media interviews. 
 A strong appearance in a newspaper article or on a TV piece reflects well
  not only on you\, but also your department and the university as a whole
 .&lt;/p&gt;\n&lt;p&gt;This level 2 media training is for those who already have a goo
 d grasp of the interview process\, particularly developing and delivering
  key messages. In this training\, you'll:&lt;/p&gt;\n&lt;ul&gt;\n&lt;li&gt;Review and discu
 ss case studies of interview successes and gaffes.&lt;/li&gt;\n&lt;li&gt;Practice cra
 fting effective and memorable sound bites.&lt;/li&gt;\n&lt;li&gt;Enhance your intervi
 ewing skills by participating in a simulated interview based on a customi
 zed scenario relevant to your role at the university.&lt;/li&gt;\n&lt;li&gt;Hear from
  and engage in a Q&amp;amp\;A session with&amp;nbsp\;KOLR10 anchor &lt;a href="https
 ://www.ozarksfirst.com/author/jenifer-abreu/"&gt;Jenifer Abreu&lt;/a&gt;.&lt;/li&gt;\n&lt;/
 ul&gt;\n&lt;p&gt;Registration is required at My Learning Connection in my.missouri
 state.edu.&lt;/p&gt;\n&lt;ul&gt;\n&lt;li&gt;Go to your profile tab.&lt;/li&gt;\n&lt;li&gt;Find the Prof
 essional Development box.&lt;/li&gt;\n&lt;li&gt;Select My Learning Connection.&lt;/li&gt;\n
 &lt;li&gt;Search for this session.&lt;/li&gt;\n&lt;li&gt;Sign up.&lt;/li&gt;\n&lt;/ul&gt;&lt;/body&gt;&lt;/html&gt;
DTSTART;TZID=America/Chicago:20221026T133000
DTEND;TZID=America/Chicago:20221026T153000
SEQUENCE:0
URL:116492.jpg
CATEGORIES:Current Students,Faculty,Staff
END:VEVENT
END:VCALENDAR