BEGIN:VCALENDAR
VERSION:2.0
METHOD:PUBLISH
PRODID:-//Missouri State University/Calendar of Events//EN
CALSCALE:GREGORIAN
X-WR-TIMEZONE:America/Chicago
BEGIN:VTIMEZONE
TZID:America/Chicago
BEGIN:DAYLIGHT
TZOFFSETFROM:-0600
TZOFFSETTO:-0500
DTSTART:20070311T020000
RRULE:FREQ=YEARLY;BYMONTH=3;BYDAY=2SU
TZNAME:CDT
END:DAYLIGHT
BEGIN:STANDARD
TZOFFSETFROM:-0500
TZOFFSETTO:-0600
DTSTART:20071104T020000
RRULE:FREQ=YEARLY;BYMONTH=11;BYDAY=1SU
TZNAME:CST
END:STANDARD
END:VTIMEZONE
BEGIN:VEVENT
UID:61132498-9c9b-4fd4-a36f-5e51681b9294.222216@calendar.missouristate.edu
CREATED:20220917T132948Z
LAST-MODIFIED:20220917T132948Z
LOCATION:Darr Agricultural Center Ballroom
SUMMARY:Water: Establishing Resilience
DESCRIPTION:Tri-State Water Resource Coalition and Missouri State Universi
 ty will convene their annual regional water conference to provide an oppo
 rtunity for all stakeholders interested in water issues - cities\, towns\
 , counties\, business and industry\, agriculture\, academics\, utilities\
 , elected officials\, state and federal agency representatives\, and othe
 r groups whose missions relate to water - to discuss current water issues
  and our regional water future.\n\n\nRegistration is required.
X-ALT-DESC;FMTTYPE=text/html:&lt;html&gt;&lt;head&gt;&lt;title&gt;&lt;/title&gt;&lt;/head&gt;&lt;body&gt;&lt;p&gt;Tr
 i-State Water Resource Coalition and Missouri State University will conve
 ne their annual regional water conference to provide an opportunity for a
 ll stakeholders interested in water issues - cities\, towns\, counties\, 
 business and industry\, agriculture\, academics\, utilities\, elected off
 icials\, state and federal agency representatives\, and other groups whos
 e missions relate to water - to discuss current water issues and our regi
 onal water future.&lt;/p&gt;\n&lt;p&gt;&lt;a href="https://noncredit.missouristate.edu/w
 aterconference.htm"&gt;Registration&lt;/a&gt;&amp;nbsp\;is required.&lt;/p&gt;&lt;/body&gt;&lt;/html&gt;
DTSTART;TZID=America/Chicago:20221101T080000
DTEND;TZID=America/Chicago:20221101T170000
SEQUENCE:1
URL:https://noncredit.missouristate.edu/waterconference.htm
CATEGORIES:Public,Alumni,Current Students,Faculty,Future Students,Staff
END:VEVENT
END:VCALENDAR