BEGIN:VCALENDAR
VERSION:2.0
METHOD:PUBLISH
PRODID:-//Missouri State University/Calendar of Events//EN
CALSCALE:GREGORIAN
X-WR-TIMEZONE:America/Chicago
BEGIN:VTIMEZONE
TZID:America/Chicago
BEGIN:DAYLIGHT
TZOFFSETFROM:-0600
TZOFFSETTO:-0500
DTSTART:20070311T020000
RRULE:FREQ=YEARLY;BYMONTH=3;BYDAY=2SU
TZNAME:CDT
END:DAYLIGHT
BEGIN:STANDARD
TZOFFSETFROM:-0500
TZOFFSETTO:-0600
DTSTART:20071104T020000
RRULE:FREQ=YEARLY;BYMONTH=11;BYDAY=1SU
TZNAME:CST
END:STANDARD
END:VTIMEZONE
BEGIN:VEVENT
UID:1c482164-58e5-4d48-9a0b-6187455f3a65.222217@calendar.missouristate.edu
CREATED:20220912T174750Z
LAST-MODIFIED:20220912T174750Z
LOCATION:Meyer Alumni Center\, Kenneth E. 314B
SUMMARY:Crime Victim Advocate Certificate Program
DESCRIPTION:Interested in learning how to serve victims and survivors? Our
  Crime Victim Advocate Certification Program teaches you how. You can als
 o earn valuable CEU’s for the following careers:\n\n\nSocial Service Prov
 iders\n\n\nCorrections Personnel\n\n\nJuvenile Officers\n\n\nVictim Servi
 ce Providers\n\n\nMental Health Providers\n\n\nChild Development Speciali
 sts\n\n\nNurses\n\n\nParalegals\n\n\nLaw Enforcement Officers\n\n\n\n\n\n
 Course material is taught over six sessions. To earn the certificate\, yo
 u must attend all six sessions. The cost of this comprehensive 36-hour ce
 rtification program is $585. Cost includes expert instruction and trainin
 g materials.  In addition\, this course can be modified for individual ag
 encies ranging from a one\, two\, or three day workshop upon request.  \n
 \n\n\n\n\nIn this course\, you'll learn:\n\n\nVictim advocacy\n\n\nHow to
  strengthen existing practices regarding laws\, forensic practices\, and 
 on-scene first-responder advocacy\n\n\nDisaster response\, multiple victi
 ms\, active shooter and acts of terrorism\n\n\nWhere to find resources an
 d collaborate with federal\, state and local agencies
X-ALT-DESC;FMTTYPE=text/html:&lt;html&gt;&lt;head&gt;&lt;title&gt;&lt;/title&gt;&lt;/head&gt;&lt;body&gt;&lt;p&gt;In
 terested in learning how to serve victims and survivors? Our Crime Victim
  Advocate Certification Program teaches you how. You can also earn valuab
 le CEU’s for the following careers:&lt;/p&gt;\n&lt;p&gt;Social Service Providers&lt;/p&gt;\
 n&lt;p&gt;Corrections Personnel&lt;/p&gt;\n&lt;p&gt;Juvenile Officers&lt;/p&gt;\n&lt;p&gt;Victim Servic
 e Providers&lt;/p&gt;\n&lt;p&gt;Mental Health Providers&lt;/p&gt;\n&lt;p&gt;Child Development Spe
 cialists&lt;/p&gt;\n&lt;p&gt;Nurses&lt;/p&gt;\n&lt;p&gt;Paralegals&lt;/p&gt;\n&lt;p&gt;Law Enforcement Office
 rs&lt;/p&gt;\n&lt;p&gt;&lt;/p&gt;\n&lt;p&gt;Course material is taught over six sessions. To earn 
 the certificate\, you must attend all six sessions. The cost of this comp
 rehensive 36-hour certification program is $585. Cost includes expert ins
 truction and training materials.&amp;nbsp\; In addition\, this course can be 
 modified for individual agencies ranging from a one\, two\, or three day 
 workshop upon request.&amp;nbsp\;&amp;nbsp\;&lt;/p&gt;\n&lt;p&gt;&lt;/p&gt;\n&lt;p&gt;In this course\, yo
 u'll learn:&lt;/p&gt;\n&lt;p&gt;Victim advocacy&lt;/p&gt;\n&lt;p&gt;How to strengthen existing pr
 actices regarding laws\, forensic practices\, and on-scene first-responde
 r advocacy&lt;/p&gt;\n&lt;p&gt;Disaster response\, multiple victims\, active shooter 
 and acts of terrorism&lt;/p&gt;\n&lt;p&gt;Where to find resources and collaborate wit
 h federal\, state and local agencies&lt;/p&gt;\n&lt;p&gt;&lt;/p&gt;&lt;/body&gt;&lt;/html&gt;
DTSTART;TZID=America/Chicago:20221013T090000
DTEND;TZID=America/Chicago:20221013T160000
SEQUENCE:0
URL:https://noncredit.missouristate.edu/crimevictimadvocate.htm
CATEGORIES:Public,Alumni,Current Students,Faculty,Future Students,Staff
END:VEVENT
END:VCALENDAR