BEGIN:VCALENDAR
VERSION:2.0
METHOD:PUBLISH
PRODID:-//Missouri State University/Calendar of Events//EN
CALSCALE:GREGORIAN
X-WR-TIMEZONE:America/Chicago
BEGIN:VTIMEZONE
TZID:America/Chicago
BEGIN:DAYLIGHT
TZOFFSETFROM:-0600
TZOFFSETTO:-0500
DTSTART:20070311T020000
RRULE:FREQ=YEARLY;BYMONTH=3;BYDAY=2SU
TZNAME:CDT
END:DAYLIGHT
BEGIN:STANDARD
TZOFFSETFROM:-0500
TZOFFSETTO:-0600
DTSTART:20071104T020000
RRULE:FREQ=YEARLY;BYMONTH=11;BYDAY=1SU
TZNAME:CST
END:STANDARD
END:VTIMEZONE
BEGIN:VEVENT
UID:4d5e336b-a63e-4b35-9b3c-3fe8e1f65d11.222353@calendar.missouristate.edu
CREATED:20220917T131034Z
LAST-MODIFIED:20220917T131034Z
LOCATION:Brick City 1 312
SUMMARY:Visiting Artists\, Designers and Scholars Series: Corwin Levi
DESCRIPTION:Corwin Levi is a visual artist who works in design\, illustrat
 ion\, bookmaking\, curating and writing. He has attended over 20 artist r
 esidencies and has lived in 18 cities in 12 states. \n\n\n\n\n\nLevi’s fe
 llowships include the Roswell Artist-in-Residence Program\, Ucross Founda
 tion for the Arts\, the Millay Colony\, Elsewhere\, the Wurlitzer Foundat
 ion and the H.A. Rey Center. He has exhibited and curated in shows across
  the country\, been a regular writer for Gwarlingo and Art New England\, 
 painted a 175-foot-long mural across from MASS MoCA\, and is a partner in
  the design firm Hook &amp; Eye Studio.
X-ALT-DESC;FMTTYPE=text/html:&lt;html&gt;&lt;head&gt;&lt;title&gt;&lt;/title&gt;&lt;/head&gt;&lt;body&gt;&lt;p&gt;&lt;s
 pan&gt;Corwin&lt;/span&gt;&amp;nbsp\;&lt;span&gt;Levi&lt;/span&gt;&amp;nbsp\;is a visual artist who wo
 rks in design\, illustration\, bookmaking\, curating and writing. He has 
 attended over 20 artist residencies and has lived in 18 cities in 12 stat
 es.&amp;nbsp\;&lt;/p&gt;\n&lt;p&gt;&lt;span&gt;&lt;/span&gt;&lt;/p&gt;\n&lt;p&gt;&lt;span&gt;Levi&lt;/span&gt;’s fellowships 
 include the Roswell Artist-in-Residence Program\, Ucross Foundation for t
 he Arts\, the Millay Colony\, Elsewhere\, the Wurlitzer Foundation and th
 e H.A. Rey Center. He has exhibited and curated in shows across the count
 ry\, been a regular writer for Gwarlingo and Art New England\, painted a 
 175-foot-long mural across from MASS MoCA\, and is a partner in the desig
 n firm Hook &amp;amp\; Eye Studio.&lt;/p&gt;&lt;/body&gt;&lt;/html&gt;
DTSTART;TZID=America/Chicago:20221019T173000
DTEND;TZID=America/Chicago:20221019T183000
SEQUENCE:0
URL:116503.jpg
CATEGORIES:Public,Alumni,Current Students,Faculty,Future Students,Staff
END:VEVENT
END:VCALENDAR