BEGIN:VCALENDAR
VERSION:2.0
METHOD:PUBLISH
PRODID:-//Missouri State University/Calendar of Events//EN
CALSCALE:GREGORIAN
X-WR-TIMEZONE:America/Chicago
BEGIN:VTIMEZONE
TZID:America/Chicago
BEGIN:DAYLIGHT
TZOFFSETFROM:-0600
TZOFFSETTO:-0500
DTSTART:20070311T020000
RRULE:FREQ=YEARLY;BYMONTH=3;BYDAY=2SU
TZNAME:CDT
END:DAYLIGHT
BEGIN:STANDARD
TZOFFSETFROM:-0500
TZOFFSETTO:-0600
DTSTART:20071104T020000
RRULE:FREQ=YEARLY;BYMONTH=11;BYDAY=1SU
TZNAME:CST
END:STANDARD
END:VTIMEZONE
BEGIN:VEVENT
UID:2638c88d-65c8-4cba-93c3-305072439d08.222354@calendar.missouristate.edu
CREATED:20220917T125826Z
LAST-MODIFIED:20220917T125826Z
LOCATION:
SUMMARY:Visiting Artists\, Designers and Scholars Series: Public Sculpture
  Symposium: Concept\, Material and Placemaking
DESCRIPTION:Public art can transform a city and invigorate a public space\
 , but what does that mean for Springfield\, Missouri? Join the Department
  of Art + Design and Sculpture Walk Springfield for a panel discussion mo
 derated by sculpture professor Deidre Argyle. Featured sculptors J. Aaron
  Alderman\, Jenn Peek and Theda Sandiford will explore how public sculptu
 re exhibitions contribute to the social and cultural fabric of communitie
 s.\n\n\nRegistration for this free webinar is required.
X-ALT-DESC;FMTTYPE=text/html:&lt;html&gt;&lt;head&gt;&lt;title&gt;&lt;/title&gt;&lt;/head&gt;&lt;body&gt;&lt;p&gt;&lt;s
 pan&gt;Public art can transform a city and invigorate a public space\, but w
 hat does that mean for Springfield\, Missouri? Join the Department of Art
  + Design and Sculpture Walk Springfield for a panel discussion moderated
  by sculpture professor Deidre Argyle. Featured sculptors J. Aaron Alderm
 an\, Jenn Peek and Theda Sandiford will explore how public sculpture exhi
 bitions contribute to the social and cultural fabric of communities.&lt;/spa
 n&gt;&lt;/p&gt;\n&lt;p&gt;&lt;span&gt;&lt;a href="https://art.missouristate.edu/webinars.htm"&gt;Reg
 istration&lt;/a&gt;&amp;nbsp\;for this free webinar is required.&lt;/span&gt;&lt;b&gt; &lt;br&gt;&lt;/b&gt;
 &lt;/p&gt;&lt;/body&gt;&lt;/html&gt;
DTSTART;TZID=America/Chicago:20221110T170000
DTEND;TZID=America/Chicago:20221110T183000
SEQUENCE:0
URL:116504.jpg
CATEGORIES:Public,Alumni,Current Students,Faculty,Future Students,Staff
END:VEVENT
END:VCALENDAR