BEGIN:VCALENDAR
VERSION:2.0
METHOD:PUBLISH
PRODID:-//Missouri State University/Calendar of Events//EN
CALSCALE:GREGORIAN
X-WR-TIMEZONE:America/Chicago
BEGIN:VTIMEZONE
TZID:America/Chicago
BEGIN:DAYLIGHT
TZOFFSETFROM:-0600
TZOFFSETTO:-0500
DTSTART:20070311T020000
RRULE:FREQ=YEARLY;BYMONTH=3;BYDAY=2SU
TZNAME:CDT
END:DAYLIGHT
BEGIN:STANDARD
TZOFFSETFROM:-0500
TZOFFSETTO:-0600
DTSTART:20071104T020000
RRULE:FREQ=YEARLY;BYMONTH=11;BYDAY=1SU
TZNAME:CST
END:STANDARD
END:VTIMEZONE
BEGIN:VEVENT
UID:00000000-0000-0000-0000-000000000000.222488@calendar.missouristate.edu
CREATED:20220913T204516Z
LAST-MODIFIED:20220913T204516Z
LOCATION:To Be Determined
SUMMARY:Jeans and Jewels at Mountain Grove Campus
DESCRIPTION:On Saturday\, October 15th\, 2022 beginning at 5 p.m.\, the Mo
 untain Grove Campus of Missouri State University will be hosting Jeans an
 d Jewels\, a very special event for alumni and friends with the  purpose 
 of supporting and showcasing the Missouri State enology and viticulture p
 rograms\, including the Shannon Hall campus.
X-ALT-DESC;FMTTYPE=text/html:&lt;html&gt;&lt;head&gt;&lt;title&gt;&lt;/title&gt;&lt;/head&gt;&lt;body&gt;&lt;p&gt;&lt;s
 pan&gt;On Saturday\, October 15th\, 2022 beginning at 5 p.m.\, the Mountain 
 Grove Campus of Missouri State University will be hosting Jeans and Jewel
 s\, a very special event for alumni and friends with the&amp;nbsp\; purpose o
 f supporting and showcasing the Missouri State enology and viticulture pr
 ograms\, including the Shannon Hall campus.&lt;/span&gt;&lt;br&gt;\n&lt;/p&gt;&lt;/body&gt;&lt;/html&gt;
DTSTART;TZID=America/Chicago:20221015T170000
DTEND;TZID=America/Chicago:20221015T200000
SEQUENCE:0
URL:https://missouristate.imodules.com?sid=1691&amp;gid=2&amp;pgid=2913&amp;cid=5166&amp;e
 cid=5166&amp;ciid=17266&amp;crid=0
CATEGORIES:Public,Alumni,Parents and Family,Visitors
END:VEVENT
END:VCALENDAR