BEGIN:VCALENDAR
VERSION:2.0
METHOD:PUBLISH
PRODID:-//Missouri State University/Calendar of Events//EN
CALSCALE:GREGORIAN
X-WR-TIMEZONE:America/Chicago
BEGIN:VTIMEZONE
TZID:America/Chicago
BEGIN:DAYLIGHT
TZOFFSETFROM:-0600
TZOFFSETTO:-0500
DTSTART:20070311T020000
RRULE:FREQ=YEARLY;BYMONTH=3;BYDAY=2SU
TZNAME:CDT
END:DAYLIGHT
BEGIN:STANDARD
TZOFFSETFROM:-0500
TZOFFSETTO:-0600
DTSTART:20071104T020000
RRULE:FREQ=YEARLY;BYMONTH=11;BYDAY=1SU
TZNAME:CST
END:STANDARD
END:VTIMEZONE
BEGIN:VEVENT
UID:5b7191b3-9b36-4663-9f04-bc1d21a3f00f.222357@calendar.missouristate.edu
CREATED:20220917T124724Z
LAST-MODIFIED:20220917T124724Z
LOCATION:Carrington Hall 208
SUMMARY:Fiction Writer Pedro Ponce Reads at Missouri State
DESCRIPTION:Fiction writer Pedro Ponce will read from his new book\, "The 
 Devil and the Dairy Princess\," at Missouri State University. The event i
 s sponsored by the Department of English at Missouri State and is free an
 d open to the public. The author's books will be for sale before and afte
 r the event.
X-ALT-DESC;FMTTYPE=text/html:&lt;html&gt;&lt;head&gt;&lt;title&gt;&lt;/title&gt;&lt;/head&gt;&lt;body&gt;&lt;p&gt;Fi
 ction writer Pedro Ponce will read from his new book\, "The Devil and the
  Dairy Princess\," at Missouri State University. The event is sponsored b
 y the Department of English at Missouri State and is free and open to the
  public. The author's books will be for sale before and after the event.&lt;
 /p&gt;&lt;/body&gt;&lt;/html&gt;
DTSTART;TZID=America/Chicago:20221004T190000
DTEND;TZID=America/Chicago:20221004T203000
SEQUENCE:0
URL:https://www.facebook.com/events/956007372013284
CATEGORIES:Public
END:VEVENT
END:VCALENDAR