BEGIN:VCALENDAR
VERSION:2.0
METHOD:PUBLISH
PRODID:-//Missouri State University/Calendar of Events//EN
CALSCALE:GREGORIAN
X-WR-TIMEZONE:America/Chicago
BEGIN:VTIMEZONE
TZID:America/Chicago
BEGIN:DAYLIGHT
TZOFFSETFROM:-0600
TZOFFSETTO:-0500
DTSTART:20070311T020000
RRULE:FREQ=YEARLY;BYMONTH=3;BYDAY=2SU
TZNAME:CDT
END:DAYLIGHT
BEGIN:STANDARD
TZOFFSETFROM:-0500
TZOFFSETTO:-0600
DTSTART:20071104T020000
RRULE:FREQ=YEARLY;BYMONTH=11;BYDAY=1SU
TZNAME:CST
END:STANDARD
END:VTIMEZONE
BEGIN:VEVENT
UID:23a4cb10-1676-4ed4-bf17-f97880f44ed6.222365@calendar.missouristate.edu
CREATED:20220916T051513Z
LAST-MODIFIED:20220916T051513Z
LOCATION:Springfield  \, Great Southern Bank Arena
SUMMARY:Missouri State University Men's Basketball vs Bradley - Beach Nigh
 t&lt;br /&gt;Giveaways - Leis\, Mugs\, Roll-A-Banas
DESCRIPTION:Missouri State University Men's Basketball plays Bradley - Bea
 ch NightGiveaways - Leis\, Mugs\, Roll-A-BanasTV: ESPN3
X-ALT-DESC;FMTTYPE=text/html:&lt;html&gt;&lt;head&gt;&lt;title&gt;&lt;/title&gt;&lt;/head&gt;&lt;body&gt;Misso
 uri State University Men's Basketball plays Bradley - Beach Night&lt;br /&gt;Gi
 veaways - Leis\, Mugs\, Roll-A-Banas&lt;br&gt;&lt;br&gt;TV: ESPN3&lt;/body&gt;&lt;/html&gt;
DTSTART;TZID=America/Chicago:20221203T190000
DTEND;TZID=America/Chicago:20221203T210000
SEQUENCE:1
URL:http://missouristatebears.com/index.aspx?path=mbball
CATEGORIES:Current Students,Future Students,Parents and Family,Alumni,
 Faculty,Staff,Community,Visitors,Athletics
END:VEVENT
END:VCALENDAR