BEGIN:VCALENDAR
VERSION:2.0
METHOD:PUBLISH
PRODID:-//Missouri State University/Calendar of Events//EN
CALSCALE:GREGORIAN
X-WR-TIMEZONE:America/Chicago
BEGIN:VTIMEZONE
TZID:America/Chicago
BEGIN:DAYLIGHT
TZOFFSETFROM:-0600
TZOFFSETTO:-0500
DTSTART:20070311T020000
RRULE:FREQ=YEARLY;BYMONTH=3;BYDAY=2SU
TZNAME:CDT
END:DAYLIGHT
BEGIN:STANDARD
TZOFFSETFROM:-0500
TZOFFSETTO:-0600
DTSTART:20071104T020000
RRULE:FREQ=YEARLY;BYMONTH=11;BYDAY=1SU
TZNAME:CST
END:STANDARD
END:VTIMEZONE
BEGIN:VEVENT
UID:a6fe778a-efd4-418e-9f67-d47ae3f4303e.222378@calendar.missouristate.edu
CREATED:20220916T051514Z
LAST-MODIFIED:20220916T051514Z
LOCATION:Springfield  \, Great Southern Bank Arena
SUMMARY:Missouri State University Men's Basketball vs Southern Illinois - 
 "The Office" Night&lt;br /&gt;Student Giveaway - Best Bears Fan Dundie
DESCRIPTION:Missouri State University Men's Basketball plays Southern Illi
 nois - "The Office" NightStudent Giveaway - Best Bears Fan DundieTV: ESPN3
X-ALT-DESC;FMTTYPE=text/html:&lt;html&gt;&lt;head&gt;&lt;title&gt;&lt;/title&gt;&lt;/head&gt;&lt;body&gt;Misso
 uri State University Men's Basketball plays Southern Illinois - "The Offi
 ce" Night&lt;br /&gt;Student Giveaway - Best Bears Fan Dundie&lt;br&gt;&lt;br&gt;TV: ESPN3&lt;
 /body&gt;&lt;/html&gt;
DTSTART;TZID=America/Chicago:20230121T130000
DTEND;TZID=America/Chicago:20230121T150000
SEQUENCE:2
URL:http://missouristatebears.com/index.aspx?path=mbball
CATEGORIES:Current Students,Future Students,Parents and Family,Alumni,
 Faculty,Staff,Community,Visitors,Athletics
END:VEVENT
END:VCALENDAR