BEGIN:VCALENDAR
VERSION:2.0
METHOD:PUBLISH
PRODID:-//Missouri State University/Calendar of Events//EN
CALSCALE:GREGORIAN
X-WR-TIMEZONE:America/Chicago
BEGIN:VTIMEZONE
TZID:America/Chicago
BEGIN:DAYLIGHT
TZOFFSETFROM:-0600
TZOFFSETTO:-0500
DTSTART:20070311T020000
RRULE:FREQ=YEARLY;BYMONTH=3;BYDAY=2SU
TZNAME:CDT
END:DAYLIGHT
BEGIN:STANDARD
TZOFFSETFROM:-0500
TZOFFSETTO:-0600
DTSTART:20071104T020000
RRULE:FREQ=YEARLY;BYMONTH=11;BYDAY=1SU
TZNAME:CST
END:STANDARD
END:VTIMEZONE
BEGIN:VEVENT
UID:320aaf1e-d53b-484d-970a-9bfed1a5ff7a.222379@calendar.missouristate.edu
CREATED:20220916T051514Z
LAST-MODIFIED:20220916T051514Z
LOCATION:Springfield  \, Great Southern Bank Arena
SUMMARY:Missouri State University Men's Basketball vs UIC - Coaches vs. Ca
 ncer&lt;br /&gt;TikTok Night + Student Giveaway - Mini Ring Light&lt;br /&gt;OTC Night
DESCRIPTION:Missouri State University Men's Basketball plays UIC - Coaches
  vs. CancerTikTok Night + Student Giveaway - Mini Ring LightOTC NightTV: 
 ESPN3
X-ALT-DESC;FMTTYPE=text/html:&lt;html&gt;&lt;head&gt;&lt;title&gt;&lt;/title&gt;&lt;/head&gt;&lt;body&gt;Misso
 uri State University Men's Basketball plays UIC - Coaches vs. Cancer&lt;br /
 &gt;TikTok Night + Student Giveaway - Mini Ring Light&lt;br /&gt;OTC Night&lt;br&gt;&lt;br&gt;
 TV: ESPN3&lt;/body&gt;&lt;/html&gt;
DTSTART;TZID=America/Chicago:20230124T190000
DTEND;TZID=America/Chicago:20230124T210000
SEQUENCE:1
URL:http://missouristatebears.com/index.aspx?path=mbball
CATEGORIES:Current Students,Future Students,Parents and Family,Alumni,
 Faculty,Staff,Community,Visitors,Athletics
END:VEVENT
END:VCALENDAR