BEGIN:VCALENDAR
VERSION:2.0
METHOD:PUBLISH
PRODID:-//Missouri State University/Calendar of Events//EN
CALSCALE:GREGORIAN
X-WR-TIMEZONE:America/Chicago
BEGIN:VTIMEZONE
TZID:America/Chicago
BEGIN:DAYLIGHT
TZOFFSETFROM:-0600
TZOFFSETTO:-0500
DTSTART:20070311T020000
RRULE:FREQ=YEARLY;BYMONTH=3;BYDAY=2SU
TZNAME:CDT
END:DAYLIGHT
BEGIN:STANDARD
TZOFFSETFROM:-0500
TZOFFSETTO:-0600
DTSTART:20071104T020000
RRULE:FREQ=YEARLY;BYMONTH=11;BYDAY=1SU
TZNAME:CST
END:STANDARD
END:VTIMEZONE
BEGIN:VEVENT
UID:dae741e6-e8d0-455d-b2a9-05a0b3951a3f.222387@calendar.missouristate.edu
CREATED:20220916T051515Z
LAST-MODIFIED:20220916T051515Z
LOCATION:Springfield  \, Great Southern Bank Arena
SUMMARY:Missouri State University Men's Basketball vs Murray State - Rebou
 nd Foundation Game&lt;br /&gt;Student Giveaway - Maroon Cowboy Hats
DESCRIPTION:Missouri State University Men's Basketball plays Murray State 
 - Rebound Foundation GameStudent Giveaway - Maroon Cowboy HatsTV: ESPN3
X-ALT-DESC;FMTTYPE=text/html:&lt;html&gt;&lt;head&gt;&lt;title&gt;&lt;/title&gt;&lt;/head&gt;&lt;body&gt;Misso
 uri State University Men's Basketball plays Murray State - Rebound Founda
 tion Game&lt;br /&gt;Student Giveaway - Maroon Cowboy Hats&lt;br&gt;&lt;br&gt;TV: ESPN3&lt;/bo
 dy&gt;&lt;/html&gt;
DTSTART;TZID=America/Chicago:20230221T180000
DTEND;TZID=America/Chicago:20230221T200000
SEQUENCE:1
URL:http://missouristatebears.com/index.aspx?path=mbball
CATEGORIES:Current Students,Future Students,Parents and Family,Alumni,
 Faculty,Staff,Community,Visitors,Athletics
END:VEVENT
END:VCALENDAR