BEGIN:VCALENDAR
VERSION:2.0
METHOD:PUBLISH
PRODID:-//Missouri State University/Calendar of Events//EN
CALSCALE:GREGORIAN
X-WR-TIMEZONE:America/Chicago
BEGIN:VTIMEZONE
TZID:America/Chicago
BEGIN:DAYLIGHT
TZOFFSETFROM:-0600
TZOFFSETTO:-0500
DTSTART:20070311T020000
RRULE:FREQ=YEARLY;BYMONTH=3;BYDAY=2SU
TZNAME:CDT
END:DAYLIGHT
BEGIN:STANDARD
TZOFFSETFROM:-0500
TZOFFSETTO:-0600
DTSTART:20071104T020000
RRULE:FREQ=YEARLY;BYMONTH=11;BYDAY=1SU
TZNAME:CST
END:STANDARD
END:VTIMEZONE
BEGIN:VEVENT
UID:13ad9690-9b41-4592-bd1a-bd1a025cec18.222470@calendar.missouristate.edu
CREATED:20220926T215544Z
LAST-MODIFIED:20220926T215544Z
LOCATION:
SUMMARY:Paws to the Polls Voter Registration and Information Tabling
DESCRIPTION:Paws to the Polls will start off Voter Awareness Week with vot
 er registration and information tabling. Register to vote\, change your r
 egistration so you can vote here on campus and find out whether the new v
 oting law affects you.\n\n\nReceive a booklet with voting-related informa
 tion and access to non-partisan sources of political information\, and le
 arn about other Voter Awareness Week events for Oct. 5-6.\n\n\nWe will be
  in two locations between 10 a.m. and 2:30 p.m. - outdoors between Plaste
 r Student Union and Siceluff Hall and the Meyer Library Lobby.
X-ALT-DESC;FMTTYPE=text/html:&lt;html&gt;&lt;head&gt;&lt;title&gt;&lt;/title&gt;&lt;/head&gt;&lt;body&gt;&lt;p&gt;Pa
 ws to the Polls will start off Voter Awareness Week with voter registrati
 on and information tabling. Register to vote\, change your registration s
 o you can vote here on campus and find out whether the new voting law aff
 ects you.&lt;/p&gt;\n&lt;p&gt;Receive a booklet with voting-related information and a
 ccess to non-partisan sources of political information\, and learn about 
 other Voter Awareness Week events for&amp;nbsp\;Oct. 5-6.&lt;/p&gt;\n&lt;p&gt;We will be 
 in two locations between 10 a.m. and 2:30 p.m. - outdoors between&amp;nbsp\;P
 laster Student Union and Siceluff Hall and the Meyer Library Lobby.&lt;/p&gt;&lt;/
 body&gt;&lt;/html&gt;
DTSTART;TZID=America/Chicago:20221003T100000
DTEND;TZID=America/Chicago:20221003T143000
SEQUENCE:3
URL:https://www.missouristate.edu/ADP/paws-to-the-polls.htm 
CATEGORIES:Public,Alumni,Current Students,Faculty,Future Students,Staff
END:VEVENT
END:VCALENDAR