BEGIN:VCALENDAR
VERSION:2.0
METHOD:PUBLISH
PRODID:-//Missouri State University/Calendar of Events//EN
CALSCALE:GREGORIAN
X-WR-TIMEZONE:America/Chicago
BEGIN:VTIMEZONE
TZID:America/Chicago
BEGIN:DAYLIGHT
TZOFFSETFROM:-0600
TZOFFSETTO:-0500
DTSTART:20070311T020000
RRULE:FREQ=YEARLY;BYMONTH=3;BYDAY=2SU
TZNAME:CDT
END:DAYLIGHT
BEGIN:STANDARD
TZOFFSETFROM:-0500
TZOFFSETTO:-0600
DTSTART:20071104T020000
RRULE:FREQ=YEARLY;BYMONTH=11;BYDAY=1SU
TZNAME:CST
END:STANDARD
END:VTIMEZONE
BEGIN:VEVENT
UID:0be00a22-2398-4588-b2f2-101f21897d45.222471@calendar.missouristate.edu
CREATED:20220926T215841Z
LAST-MODIFIED:20220926T215841Z
LOCATION:
SUMMARY:Paws to the Polls Voter Registration and Information Tabling
DESCRIPTION:As part of Voter Awareness Week on campus\, Paws to the Polls 
 will offer voter registration and information tabling. Register to vote\,
  change your registration so you can vote here on campus and find out whe
 ther the new voting law affects you.\n\n\n Receive a booklet with voting-
 related information and access to non-partisan sources of political infor
 mation\, and learn about other Voter Awareness Week events for Oct. 5-6.F
 rom 10 a.m.-2 p.m.\, we will be outdoors between Plaster Student Union an
 d Siceluff Hall\, and from 5-7 p.m.\, in front of Blair-Shannon House.
X-ALT-DESC;FMTTYPE=text/html:&lt;html&gt;&lt;head&gt;&lt;title&gt;&lt;/title&gt;&lt;/head&gt;&lt;body&gt;&lt;p&gt;&lt;s
 pan&gt;As part of Voter Awareness Week on campus\, Paws to the Polls will of
 fer voter registration and information tabling. Register to vote\, change
  your registration so you can vote here on campus and find out whether th
 e new voting law affects you.&lt;/span&gt;&lt;/p&gt;\n&lt;p&gt;&lt;span&gt; Receive a booklet wit
 h voting-related information and access to non-partisan sources of politi
 cal information\, and learn about other Voter Awareness Week events for O
 ct. 5-6.&lt;br&gt;&lt;br&gt;From 10 a.m.-2 p.m.\, we will be outdoors between Plaster
  Student Union and Siceluff Hall\, and from 5-7 p.m.\, in front of Blair-
 Shannon House.&lt;/span&gt;&lt;/p&gt;&lt;/body&gt;&lt;/html&gt;
DTSTART;TZID=America/Chicago:20221004T100000
DTEND;TZID=America/Chicago:20221004T140000
SEQUENCE:5
URL:https://www.missouristate.edu/ADP/paws-to-the-polls.htm 
CATEGORIES:Public,Alumni,Current Students,Faculty,Future Students,Staff
END:VEVENT
END:VCALENDAR