BEGIN:VCALENDAR
VERSION:2.0
METHOD:PUBLISH
PRODID:-//Missouri State University/Calendar of Events//EN
CALSCALE:GREGORIAN
X-WR-TIMEZONE:America/Chicago
BEGIN:VTIMEZONE
TZID:America/Chicago
BEGIN:DAYLIGHT
TZOFFSETFROM:-0600
TZOFFSETTO:-0500
DTSTART:20070311T020000
RRULE:FREQ=YEARLY;BYMONTH=3;BYDAY=2SU
TZNAME:CDT
END:DAYLIGHT
BEGIN:STANDARD
TZOFFSETFROM:-0500
TZOFFSETTO:-0600
DTSTART:20071104T020000
RRULE:FREQ=YEARLY;BYMONTH=11;BYDAY=1SU
TZNAME:CST
END:STANDARD
END:VTIMEZONE
BEGIN:VEVENT
UID:309122af-21ce-44b4-9721-8a306e1b6054.222472@calendar.missouristate.edu
CREATED:20220926T224917Z
LAST-MODIFIED:20220926T224917Z
LOCATION:
SUMMARY:Paws to the Polls Voting Fair 
DESCRIPTION:Come to the Voting Fair for photo ops with Boomer (12-1:15 p.m
 .)\, practice voting with voting machines from the Greene County Clerk's 
 Office\, register to vote\, play outdoor games and quiz games\, win prize
 s and get freebies\, and eat free food!\n\n\nJoin Student Government Asso
 ciation\, Student Activities Council\, the Diversity Committee of Residen
 ce Life\, Multicultural Programs\, Office of Public Affairs Support and P
 aws to the Polls for a fun and educational experience.
X-ALT-DESC;FMTTYPE=text/html:&lt;html&gt;&lt;head&gt;&lt;title&gt;&lt;/title&gt;&lt;/head&gt;&lt;body&gt;&lt;p&gt;Co
 me to the Voting Fair for photo ops with Boomer (12-1:15 p.m.)\, practice
  voting with voting machines from the Greene County Clerk's Office\, regi
 ster to vote\, play outdoor games and quiz games\, win prizes and get fre
 ebies\, and eat free food!&lt;/p&gt;\n&lt;p&gt;Join Student Government Association\, 
 Student Activities Council\, the Diversity Committee of Residence Life\, 
 Multicultural Programs\, Office of Public Affairs Support and Paws to the
  Polls for a fun and educational experience.&lt;/p&gt;&lt;/body&gt;&lt;/html&gt;
DTSTART;TZID=America/Chicago:20221005T110000
DTEND;TZID=America/Chicago:20221005T160000
SEQUENCE:0
URL:https://www.missouristate.edu/ADP/paws-to-the-polls.htm 
CATEGORIES:Public,Alumni,Current Students,Faculty,Future Students,Staff
END:VEVENT
END:VCALENDAR