BEGIN:VCALENDAR
VERSION:2.0
METHOD:PUBLISH
PRODID:-//Missouri State University/Calendar of Events//EN
CALSCALE:GREGORIAN
X-WR-TIMEZONE:America/Chicago
BEGIN:VTIMEZONE
TZID:America/Chicago
BEGIN:DAYLIGHT
TZOFFSETFROM:-0600
TZOFFSETTO:-0500
DTSTART:20070311T020000
RRULE:FREQ=YEARLY;BYMONTH=3;BYDAY=2SU
TZNAME:CDT
END:DAYLIGHT
BEGIN:STANDARD
TZOFFSETFROM:-0500
TZOFFSETTO:-0600
DTSTART:20071104T020000
RRULE:FREQ=YEARLY;BYMONTH=11;BYDAY=1SU
TZNAME:CST
END:STANDARD
END:VTIMEZONE
BEGIN:VEVENT
UID:b85739d7-f989-403c-97ea-46440a8bcc8c.222476@calendar.missouristate.edu
CREATED:20220926T222334Z
LAST-MODIFIED:20220926T222334Z
LOCATION:
SUMMARY:“Collaborative Conversations: A Visit with Our Elected Officials” 
 Panel Discussion 
DESCRIPTION:This discussion panel features two Democrat and two Republican
  legislators (Representatives Betsy Fogle and Alex Riley and Senators Dou
 g Beck and Lincoln Hough)\, all of whom work collaboratively in Jefferson
  City.\n\n\nThey will show the campus community that we can work together
 \, that voting is important and that politics is relevant to all of us. T
 he session will be moderated by Nora Cox of the Department of Communicati
 on at Missouri State\, and an audience Q&amp;A session will be held at the en
 d of the discussion. \n\n\nThe panel fits with our public affairs mission
 \, and is particularly relevant for this year’s theme: “From Words to Dee
 ds: Creating Collaborative Communities.” 
X-ALT-DESC;FMTTYPE=text/html:&lt;html&gt;&lt;head&gt;&lt;title&gt;&lt;/title&gt;&lt;/head&gt;&lt;body&gt;&lt;p&gt;Th
 is discussion panel features two Democrat and two Republican legislators 
 (Representatives Betsy Fogle and Alex Riley and Senators Doug Beck and Li
 ncoln Hough)\, all of whom work collaboratively in Jefferson City.&lt;/p&gt;\n&lt;
 p&gt;They will show the campus community that we can work together\, that vo
 ting is important and that politics is relevant to all of us. The session
  will be moderated by Nora Cox of the Department of Communication at Miss
 ouri State\, and an audience Q&amp;amp\;A session will be held at the end of 
 the discussion.&amp;nbsp\;&lt;/p&gt;\n&lt;p&gt;The panel fits with our public affairs mis
 sion\, and is particularly relevant for this year’s theme: “From Words to
  Deeds: Creating Collaborative Communities.”&amp;nbsp\;&lt;/p&gt;&lt;/body&gt;&lt;/html&gt;
DTSTART;TZID=America/Chicago:20221006T153000
DTEND;TZID=America/Chicago:20221006T170000
SEQUENCE:0
URL:https://www.missouristate.edu/ADP/paws-to-the-polls.htm 
CATEGORIES:Public,Alumni,Current Students,Faculty,Future Students,Staff
END:VEVENT
END:VCALENDAR