BEGIN:VCALENDAR
VERSION:2.0
METHOD:PUBLISH
PRODID:-//Missouri State University/Calendar of Events//EN
CALSCALE:GREGORIAN
X-WR-TIMEZONE:America/Chicago
BEGIN:VTIMEZONE
TZID:America/Chicago
BEGIN:DAYLIGHT
TZOFFSETFROM:-0600
TZOFFSETTO:-0500
DTSTART:20070311T020000
RRULE:FREQ=YEARLY;BYMONTH=3;BYDAY=2SU
TZNAME:CDT
END:DAYLIGHT
BEGIN:STANDARD
TZOFFSETFROM:-0500
TZOFFSETTO:-0600
DTSTART:20071104T020000
RRULE:FREQ=YEARLY;BYMONTH=11;BYDAY=1SU
TZNAME:CST
END:STANDARD
END:VTIMEZONE
BEGIN:VEVENT
UID:00000000-0000-0000-0000-000000000000.222484@calendar.missouristate.edu
CREATED:20220921T154607Z
LAST-MODIFIED:20220921T154607Z
LOCATION:To Be Determined
SUMMARY:BearFest Village: Alumni Tailgate
DESCRIPTION:We invite all Missouri State University alumni to join us for 
 a tailgate event in BearFest Village. Make plans now to meet up with fell
 ow Bears and connect to your alma mater.
X-ALT-DESC;FMTTYPE=text/html:&lt;html&gt;&lt;head&gt;&lt;title&gt;&lt;/title&gt;&lt;/head&gt;&lt;body&gt;&lt;p&gt;We
  invite all Missouri State University alumni to join us for a tailgate ev
 ent in BearFest Village.&amp;nbsp\;Make plans now to meet up with fellow Bear
 s and connect to your alma mater.&lt;/p&gt;&lt;/body&gt;&lt;/html&gt;
DTSTART;TZID=America/Chicago:20221029T110000
DTEND;TZID=America/Chicago:20221029T140000
SEQUENCE:0
URL:https://missouristate.imodules.com?sid=1691&amp;gid=2&amp;pgid=2907&amp;cid=5142&amp;e
 cid=5142&amp;ciid=17191&amp;crid=0
CATEGORIES:Public,Alumni,Parents and Family,Visitors
END:VEVENT
END:VCALENDAR