BEGIN:VCALENDAR
VERSION:2.0
METHOD:PUBLISH
PRODID:-//Missouri State University/Calendar of Events//EN
CALSCALE:GREGORIAN
X-WR-TIMEZONE:America/Chicago
BEGIN:VTIMEZONE
TZID:America/Chicago
BEGIN:DAYLIGHT
TZOFFSETFROM:-0600
TZOFFSETTO:-0500
DTSTART:20070311T020000
RRULE:FREQ=YEARLY;BYMONTH=3;BYDAY=2SU
TZNAME:CDT
END:DAYLIGHT
BEGIN:STANDARD
TZOFFSETFROM:-0500
TZOFFSETTO:-0600
DTSTART:20071104T020000
RRULE:FREQ=YEARLY;BYMONTH=11;BYDAY=1SU
TZNAME:CST
END:STANDARD
END:VTIMEZONE
BEGIN:VEVENT
UID:c4e82396-7adc-4ca8-be0f-4de1d2d0c21c.222497@calendar.missouristate.edu
CREATED:20220923T051515Z
LAST-MODIFIED:20220923T051515Z
LOCATION:Springfield\, Great Southern Bank Arena
SUMMARY:Missouri State University Women's Basketball vs Bradley - Foam Fin
 ger Giveaway
DESCRIPTION:Missouri State University Women's Basketball plays Bradley - F
 oam Finger GiveawayTV: ESPN3
X-ALT-DESC;FMTTYPE=text/html:&lt;html&gt;&lt;head&gt;&lt;title&gt;&lt;/title&gt;&lt;/head&gt;&lt;body&gt;Misso
 uri State University Women's Basketball plays Bradley - Foam Finger Givea
 way&lt;br&gt;&lt;br&gt;TV: ESPN3&lt;/body&gt;&lt;/html&gt;
DTSTART;TZID=America/Chicago:20230107T130000
DTEND;TZID=America/Chicago:20230107T150000
SEQUENCE:1
URL:http://missouristatebears.com/index.aspx?path=wbball
CATEGORIES:Current Students,Future Students,Parents and Family,Alumni,
 Faculty,Staff,Community,Visitors,Athletics
END:VEVENT
END:VCALENDAR