BEGIN:VCALENDAR
VERSION:2.0
METHOD:PUBLISH
PRODID:-//Missouri State University/Calendar of Events//EN
CALSCALE:GREGORIAN
X-WR-TIMEZONE:America/Chicago
BEGIN:VTIMEZONE
TZID:America/Chicago
BEGIN:DAYLIGHT
TZOFFSETFROM:-0600
TZOFFSETTO:-0500
DTSTART:20070311T020000
RRULE:FREQ=YEARLY;BYMONTH=3;BYDAY=2SU
TZNAME:CDT
END:DAYLIGHT
BEGIN:STANDARD
TZOFFSETFROM:-0500
TZOFFSETTO:-0600
DTSTART:20071104T020000
RRULE:FREQ=YEARLY;BYMONTH=11;BYDAY=1SU
TZNAME:CST
END:STANDARD
END:VTIMEZONE
BEGIN:VEVENT
UID:eb5311ff-475a-4b84-8c30-de6b9b9bb5b2.222500@calendar.missouristate.edu
CREATED:20220923T051516Z
LAST-MODIFIED:20220923T051516Z
LOCATION:Nashville\, Tenn.
SUMMARY:Missouri State University Women's Basketball at Belmont
DESCRIPTION:Missouri State University Women's Basketball visits BelmontTV:
  ESPN3
X-ALT-DESC;FMTTYPE=text/html:&lt;html&gt;&lt;head&gt;&lt;title&gt;&lt;/title&gt;&lt;/head&gt;&lt;body&gt;Misso
 uri State University Women's Basketball visits Belmont&lt;br&gt;&lt;br&gt;TV: ESPN3&lt;/
 body&gt;&lt;/html&gt;
DTSTART;TZID=America/Chicago:20230120T183000
DTEND;TZID=America/Chicago:20230120T203000
SEQUENCE:1
URL:http://missouristatebears.com/index.aspx?path=wbball
CATEGORIES:Current Students,Future Students,Parents and Family,Alumni,
 Faculty,Staff,Community,Visitors,Athletics
END:VEVENT
END:VCALENDAR