BEGIN:VCALENDAR
VERSION:2.0
METHOD:PUBLISH
PRODID:-//Missouri State University/Calendar of Events//EN
CALSCALE:GREGORIAN
X-WR-TIMEZONE:America/Chicago
BEGIN:VTIMEZONE
TZID:America/Chicago
BEGIN:DAYLIGHT
TZOFFSETFROM:-0600
TZOFFSETTO:-0500
DTSTART:20070311T020000
RRULE:FREQ=YEARLY;BYMONTH=3;BYDAY=2SU
TZNAME:CDT
END:DAYLIGHT
BEGIN:STANDARD
TZOFFSETFROM:-0500
TZOFFSETTO:-0600
DTSTART:20071104T020000
RRULE:FREQ=YEARLY;BYMONTH=11;BYDAY=1SU
TZNAME:CST
END:STANDARD
END:VTIMEZONE
BEGIN:VEVENT
UID:1d514431-11d4-4d13-94bd-c126ffc5810c.222505@calendar.missouristate.edu
CREATED:20220923T051517Z
LAST-MODIFIED:20220923T051517Z
LOCATION:Great Southern Bank Arena
SUMMARY:Missouri State University Women's Basketball vs UIC - Student Give
 away - MoState Bears T-Shirt
DESCRIPTION:Missouri State University Women's Basketball hosts UIC - Stude
 nt Giveaway - MoState Bears T-ShirtTV: ESPN3
X-ALT-DESC;FMTTYPE=text/html:&lt;html&gt;&lt;head&gt;&lt;title&gt;&lt;/title&gt;&lt;/head&gt;&lt;body&gt;Misso
 uri State University Women's Basketball hosts UIC - Student Giveaway - Mo
 State Bears T-Shirt&lt;br&gt;&lt;br&gt;TV: ESPN3&lt;/body&gt;&lt;/html&gt;
DTSTART;TZID=America/Chicago:20230204T130000
DTEND;TZID=America/Chicago:20230204T150000
SEQUENCE:1
URL:http://missouristatebears.com/index.aspx?path=wbball
CATEGORIES:Current Students,Future Students,Parents and Family,Alumni,
 Faculty,Staff,Community,Visitors,Athletics
END:VEVENT
END:VCALENDAR