BEGIN:VCALENDAR
VERSION:2.0
METHOD:PUBLISH
PRODID:-//Missouri State University/Calendar of Events//EN
CALSCALE:GREGORIAN
X-WR-TIMEZONE:America/Chicago
BEGIN:VTIMEZONE
TZID:America/Chicago
BEGIN:DAYLIGHT
TZOFFSETFROM:-0600
TZOFFSETTO:-0500
DTSTART:20070311T020000
RRULE:FREQ=YEARLY;BYMONTH=3;BYDAY=2SU
TZNAME:CDT
END:DAYLIGHT
BEGIN:STANDARD
TZOFFSETFROM:-0500
TZOFFSETTO:-0600
DTSTART:20071104T020000
RRULE:FREQ=YEARLY;BYMONTH=11;BYDAY=1SU
TZNAME:CST
END:STANDARD
END:VTIMEZONE
BEGIN:VEVENT
UID:c34f7878-6418-4fe3-948c-45f59c8d46d6.222508@calendar.missouristate.edu
CREATED:20221201T192812Z
LAST-MODIFIED:20221201T192812Z
LOCATION:Springfield\, Great Southern Bank Arena
SUMMARY:Missouri State University Women's Basketball vs Murray State - MSU
  Athletics Hall of Fame&lt;br /&gt;Mug Giveaway
DESCRIPTION:Missouri State University Women's Basketball plays Murray Stat
 e - MSU Athletics Hall of FameMug GiveawayTV: ESPN3
X-ALT-DESC;FMTTYPE=text/html:&lt;html&gt;&lt;head&gt;&lt;title&gt;&lt;/title&gt;&lt;/head&gt;&lt;body&gt;Misso
 uri State University Women's Basketball plays Murray State - MSU Athletic
 s Hall of Fame&lt;br /&gt;Mug Giveaway&lt;br&gt;&lt;br&gt;TV: ESPN3&lt;/body&gt;&lt;/html&gt;
DTSTART;TZID=America/Chicago:20230217T180000
DTEND;TZID=America/Chicago:20230217T200000
SEQUENCE:1
URL:http://missouristatebears.com/index.aspx?path=wbball
CATEGORIES:Current Students,Future Students,Parents and Family,Alumni,
 Faculty,Staff,Community,Visitors,Athletics
END:VEVENT
END:VCALENDAR