BEGIN:VCALENDAR
VERSION:2.0
METHOD:PUBLISH
PRODID:-//Missouri State University/Calendar of Events//EN
CALSCALE:GREGORIAN
X-WR-TIMEZONE:America/Chicago
BEGIN:VTIMEZONE
TZID:America/Chicago
BEGIN:DAYLIGHT
TZOFFSETFROM:-0600
TZOFFSETTO:-0500
DTSTART:20070311T020000
RRULE:FREQ=YEARLY;BYMONTH=3;BYDAY=2SU
TZNAME:CDT
END:DAYLIGHT
BEGIN:STANDARD
TZOFFSETFROM:-0500
TZOFFSETTO:-0600
DTSTART:20071104T020000
RRULE:FREQ=YEARLY;BYMONTH=11;BYDAY=1SU
TZNAME:CST
END:STANDARD
END:VTIMEZONE
BEGIN:VEVENT
UID:b3be932b-5836-43af-8fe1-c2b586f3025c.222519@calendar.missouristate.edu
CREATED:20220923T191245Z
LAST-MODIFIED:20220923T191245Z
LOCATION:Kemper Hall 204
SUMMARY:PAMS Seminar: "2010 Alumni Update: Career Paths\, Thermal Manageme
 nt R&amp;D\, and In-state Job Opportunities" by Alex Miller &amp; Patrick Margavi
 o 
DESCRIPTION:Alex Miller and Patrick MargavioThermAvant Technologies\n\n\nA
 bstract:\n\n\nAlex Miller and Patrick Margavio graduated with physics deg
 rees from MSU in 2010. Their paths separated for graduate school and earl
 y professional careers\, but have rejoined at ThermAvant Technologies in 
 Columbia MO\, where both are Lead Engineers in the Technology Development
  department. The discussion in the departmental seminar will cover three 
 topics: 1) stories of their academic and career trajectories that will re
 sonate with MSU students\, including perspectives on valuable skills and 
 tools to develop in the University environment\, 2) survey of technical c
 hallenges and active research for the development of oscillating heat pip
 es - a novel thermal management technology\, 3) advertisement of ThermAva
 nt Technologies and pitch for MSU PAMS new-grads to apply for future open
 ings.
X-ALT-DESC;FMTTYPE=text/html:&lt;html&gt;&lt;head&gt;&lt;title&gt;&lt;/title&gt;&lt;/head&gt;&lt;body&gt;&lt;p&gt;&lt;b
 &gt;Alex Miller and Patrick Margavio&lt;/b&gt;&lt;br&gt;&lt;b&gt;ThermAvant Technologies&lt;/b&gt;&lt;/
 p&gt;\n&lt;p&gt;Abstract:&lt;/p&gt;\n&lt;p&gt;Alex Miller and Patrick Margavio graduated with 
 physics degrees from MSU in 2010. Their paths separated for graduate scho
 ol and early professional careers\, but have rejoined at ThermAvant Techn
 ologies in Columbia MO\, where both are Lead Engineers in the Technology 
 Development department. The discussion in the departmental seminar will c
 over three topics: 1) stories of their academic and career trajectories t
 hat will resonate with MSU students\, including perspectives on valuable 
 skills and tools to develop in the University environment\, 2) survey of 
 technical challenges and active research for the development of oscillati
 ng heat pipes - a novel thermal management technology\, 3) advertisement 
 of ThermAvant Technologies and pitch for MSU PAMS new-grads to apply for 
 future openings.&lt;/p&gt;&lt;/body&gt;&lt;/html&gt;
DTSTART;TZID=America/Chicago:20220929T160000
DTEND;TZID=America/Chicago:20220929T170000
SEQUENCE:0
URL:https://physics.missouristate.edu/seminars.htm
CATEGORIES:Public,Alumni,Current Students,Faculty,Future Students,Staff
END:VEVENT
END:VCALENDAR