BEGIN:VCALENDAR
VERSION:2.0
METHOD:PUBLISH
PRODID:-//Missouri State University/Calendar of Events//EN
CALSCALE:GREGORIAN
X-WR-TIMEZONE:America/Chicago
BEGIN:VTIMEZONE
TZID:America/Chicago
BEGIN:DAYLIGHT
TZOFFSETFROM:-0600
TZOFFSETTO:-0500
DTSTART:20070311T020000
RRULE:FREQ=YEARLY;BYMONTH=3;BYDAY=2SU
TZNAME:CDT
END:DAYLIGHT
BEGIN:STANDARD
TZOFFSETFROM:-0500
TZOFFSETTO:-0600
DTSTART:20071104T020000
RRULE:FREQ=YEARLY;BYMONTH=11;BYDAY=1SU
TZNAME:CST
END:STANDARD
END:VTIMEZONE
BEGIN:VEVENT
UID:6fd3f8be-4c56-4597-adb2-b127ba57ab01.222526@calendar.missouristate.edu
CREATED:20220928T022657Z
LAST-MODIFIED:20220928T022657Z
LOCATION:McQueary Family Health Sciences Hall 126
SUMMARY:Healthcare Symposium
DESCRIPTION:Physician Assistant Studies presents Healthcare Symposium. Thi
 s will be a Q&amp;A panel with professionals from various health care fields.
  This is a great opportunity for anyone interesting in the health care fi
 eld. The panel will consist of a physician\, athletic trainer\, nurse\, p
 hysician assistant\, occupational therapist\, physical therapist\, respir
 atory therapist\, registered dietitian\, speech language pathologist and 
 audiologist. 
X-ALT-DESC;FMTTYPE=text/html:&lt;html&gt;&lt;head&gt;&lt;title&gt;&lt;/title&gt;&lt;/head&gt;&lt;body&gt;&lt;p&gt;Ph
 ysician Assistant Studies presents Healthcare Symposium. This will be a Q
 &amp;amp\;A panel with professionals from various health care fields. This is
  a great opportunity for anyone interesting in the health care field. The
  panel will consist of a physician\, athletic trainer\, nurse\, physician
  assistant\, occupational therapist\, physical therapist\, respiratory th
 erapist\, registered dietitian\, speech language pathologist and audiolog
 ist.&amp;nbsp\;&lt;/p&gt;&lt;/body&gt;&lt;/html&gt;
DTSTART;TZID=America/Chicago:20221003T180000
DTEND;TZID=America/Chicago:20221003T193000
SEQUENCE:0
URL:116620.jpg
CATEGORIES:Public,Current Students,Faculty,Future Students,Staff
END:VEVENT
END:VCALENDAR