BEGIN:VCALENDAR
VERSION:2.0
METHOD:PUBLISH
PRODID:-//Missouri State University/Calendar of Events//EN
CALSCALE:GREGORIAN
X-WR-TIMEZONE:America/Chicago
BEGIN:VTIMEZONE
TZID:America/Chicago
BEGIN:DAYLIGHT
TZOFFSETFROM:-0600
TZOFFSETTO:-0500
DTSTART:20070311T020000
RRULE:FREQ=YEARLY;BYMONTH=3;BYDAY=2SU
TZNAME:CDT
END:DAYLIGHT
BEGIN:STANDARD
TZOFFSETFROM:-0500
TZOFFSETTO:-0600
DTSTART:20071104T020000
RRULE:FREQ=YEARLY;BYMONTH=11;BYDAY=1SU
TZNAME:CST
END:STANDARD
END:VTIMEZONE
BEGIN:VEVENT
UID:0b21b545-18cc-4874-8e51-b83939267fd2.222533@calendar.missouristate.edu
CREATED:20220927T135601Z
LAST-MODIFIED:20220927T135601Z
LOCATION:Cheek Hall 151
SUMMARY:Computer Science Seminar - Seth Malone - Cloud Security
DESCRIPTION:For the second Computer Science Seminar this semester\, we wil
 l have Seth Malone who will discuss the current technology of cloud secur
 ity as well as some of the trends. He will also discuss what he expects t
 o see going forward. \n\n\nNo previous cloud knowledge will be needed. Se
 th will welcome all questions including the roles\, career path\, AWS\, I
 BM\, etc.\n\n\nSeth Malone graduated from Missouri State University with 
 a Computer Science degree in 2010. After graduation he worked in various 
 departments of IBM for 10 years\, most recently in IBM's Watson Health En
 vironment. Seth currently works as a Solutions Architect in AWS where he 
 helps customers design and tune solutions as well as see the art of the p
 ossible.
X-ALT-DESC;FMTTYPE=text/html:&lt;html&gt;&lt;head&gt;&lt;title&gt;&lt;/title&gt;&lt;/head&gt;&lt;body&gt;&lt;p&gt;Fo
 r the second Computer Science Seminar this semester\, we will have Seth M
 alone who will discuss the current technology of cloud security as well a
 s some of the trends. He will also discuss what he expects to see going f
 orward.&amp;nbsp\;&lt;/p&gt;\n&lt;p&gt;No previous cloud knowledge will be needed. Seth w
 ill welcome all questions including the roles\, career path\, AWS\, IBM\,
  etc.&lt;/p&gt;\n&lt;p&gt;Seth Malone graduated from Missouri State University with a
  Computer Science degree in 2010. After graduation he worked in various d
 epartments of IBM for 10 years\, most recently in IBM's Watson Health Env
 ironment. Seth currently works as a Solutions Architect in AWS where he h
 elps customers design and tune solutions as well as see the art of the po
 ssible.&lt;/p&gt;&lt;/body&gt;&lt;/html&gt;
DTSTART;TZID=America/Chicago:20221024T122000
DTEND;TZID=America/Chicago:20221024T131000
SEQUENCE:0
URL:
CATEGORIES:Current Students,Faculty,Staff
END:VEVENT
END:VCALENDAR