BEGIN:VCALENDAR
VERSION:2.0
METHOD:PUBLISH
PRODID:-//Missouri State University/Calendar of Events//EN
CALSCALE:GREGORIAN
X-WR-TIMEZONE:America/Chicago
BEGIN:VTIMEZONE
TZID:America/Chicago
BEGIN:DAYLIGHT
TZOFFSETFROM:-0600
TZOFFSETTO:-0500
DTSTART:20070311T020000
RRULE:FREQ=YEARLY;BYMONTH=3;BYDAY=2SU
TZNAME:CDT
END:DAYLIGHT
BEGIN:STANDARD
TZOFFSETFROM:-0500
TZOFFSETTO:-0600
DTSTART:20071104T020000
RRULE:FREQ=YEARLY;BYMONTH=11;BYDAY=1SU
TZNAME:CST
END:STANDARD
END:VTIMEZONE
BEGIN:VEVENT
UID:ba378eb3-72a9-4f37-b6dc-3cfac723b467.222534@calendar.missouristate.edu
CREATED:20220927T163525Z
LAST-MODIFIED:20220927T163525Z
LOCATION:Plaster Student Union\, Robert W. Theater
SUMMARY:SAC Presents: Blockbuster Series Film "Everything Everywhere All A
 t Once"
DESCRIPTION:Come join SAC for our showing of Everything Everywhere All At 
 Once either on Wednesday night or Friday night.\n\n\nFree food and prize 
 giveaways!
X-ALT-DESC;FMTTYPE=text/html:&lt;html&gt;&lt;head&gt;&lt;title&gt;&lt;/title&gt;&lt;/head&gt;&lt;body&gt;&lt;p&gt;Co
 me join SAC for our showing of Everything Everywhere All At Once either o
 n Wednesday night or Friday night.&lt;/p&gt;\n&lt;p&gt;Free food and prize giveaways!
 &lt;/p&gt;&lt;/body&gt;&lt;/html&gt;
DTSTART;TZID=America/Chicago:20221005T180000
DTEND;TZID=America/Chicago:20221005T210000
SEQUENCE:0
URL:116626.jpg
CATEGORIES:Current Students,Faculty,Staff
END:VEVENT
END:VCALENDAR