BEGIN:VCALENDAR
VERSION:2.0
METHOD:PUBLISH
PRODID:-//Missouri State University/Calendar of Events//EN
CALSCALE:GREGORIAN
X-WR-TIMEZONE:America/Chicago
BEGIN:VTIMEZONE
TZID:America/Chicago
BEGIN:DAYLIGHT
TZOFFSETFROM:-0600
TZOFFSETTO:-0500
DTSTART:20070311T020000
RRULE:FREQ=YEARLY;BYMONTH=3;BYDAY=2SU
TZNAME:CDT
END:DAYLIGHT
BEGIN:STANDARD
TZOFFSETFROM:-0500
TZOFFSETTO:-0600
DTSTART:20071104T020000
RRULE:FREQ=YEARLY;BYMONTH=11;BYDAY=1SU
TZNAME:CST
END:STANDARD
END:VTIMEZONE
BEGIN:VEVENT
UID:31e97152-bbd6-47b6-be82-beaffb8275cc.222541@calendar.missouristate.edu
CREATED:20220927T183048Z
LAST-MODIFIED:20220927T183048Z
LOCATION:Plaster Student Union\, Robert W. 312
SUMMARY:How Education Abroad Can Maximize Your College Experience
DESCRIPTION:Join Education Abroad Director Elizabeth Strong and Education 
 Abroad Advisor Amy Huff to explore how education abroad can maximize your
  college experience. We’ll share the benefits of studying abroad\, progra
 m options\, transferring international course credit\, marketing educatio
 n abroad skills and funding opportunities. Begin planning a short- or lon
 g-term program at this interactive presentation!
X-ALT-DESC;FMTTYPE=text/html:&lt;html&gt;&lt;head&gt;&lt;title&gt;&lt;/title&gt;&lt;/head&gt;&lt;body&gt;&lt;p&gt;Jo
 in Education Abroad Director Elizabeth Strong and Education Abroad Adviso
 r Amy Huff to explore how education abroad can maximize your college expe
 rience. We’ll share the benefits of studying abroad\, program options\, t
 ransferring international course credit\, marketing education abroad skil
 ls and funding opportunities. Begin planning a short- or long-term progra
 m at this interactive presentation!&lt;/p&gt;&lt;/body&gt;&lt;/html&gt;
DTSTART;TZID=America/Chicago:20221019T110000
DTEND;TZID=America/Chicago:20221019T120000
SEQUENCE:0
URL:https://international.missouristate.edu/EducationAbroad/default.htm
CATEGORIES:Current Students
END:VEVENT
END:VCALENDAR