BEGIN:VCALENDAR
VERSION:2.0
METHOD:PUBLISH
PRODID:-//Missouri State University/Calendar of Events//EN
CALSCALE:GREGORIAN
X-WR-TIMEZONE:America/Chicago
BEGIN:VTIMEZONE
TZID:America/Chicago
BEGIN:DAYLIGHT
TZOFFSETFROM:-0600
TZOFFSETTO:-0500
DTSTART:20070311T020000
RRULE:FREQ=YEARLY;BYMONTH=3;BYDAY=2SU
TZNAME:CDT
END:DAYLIGHT
BEGIN:STANDARD
TZOFFSETFROM:-0500
TZOFFSETTO:-0600
DTSTART:20071104T020000
RRULE:FREQ=YEARLY;BYMONTH=11;BYDAY=1SU
TZNAME:CST
END:STANDARD
END:VTIMEZONE
BEGIN:VEVENT
UID:4ce977a1-660a-4bb0-a602-d1ccea492c1c.222549@calendar.missouristate.edu
CREATED:20221027T190244Z
LAST-MODIFIED:20221027T190244Z
LOCATION:Hammons Student Center\, John Q.
SUMMARY:Staff Awards Luncheon
DESCRIPTION:All full-time staff members are invited to attend the Staff Aw
 ards Luncheon. Doors open at 11 a.m.\, lunch served at 11:30 a.m. with pr
 ogram to start around noon.\n\n\nThe Service Awards program honors three 
 categories of staff employees: those who have reached a five-year longevi
 ty milestone in their years of service to the university\, those who have
  been selected for the Staff Excellence in University Service Award\, and
  those who have been selected for the Staff Excellence in Community Servi
 ce Award.\n\n\nSpecial event shuttles will operate from 10:30 a.m.-2 p.m.
 \, running from Carrington Hall to Hammons Student Center with a stop at 
 Glass Hall\; and from the Park Central Office Building to Hammons Student
  Center with a stop at the Morris Center.\n\n\nAttendees are encouraged t
 o wear Bearwear or dress in theme with the program. 
X-ALT-DESC;FMTTYPE=text/html:&lt;html&gt;&lt;head&gt;&lt;title&gt;&lt;/title&gt;&lt;/head&gt;&lt;body&gt;&lt;p&gt;Al
 l full-time staff members are invited to attend the Staff Awards Luncheon
 . Doors open at 11 a.m.\, lunch served at 11:30 a.m. with program to star
 t around noon.&lt;/p&gt;\n&lt;p&gt;The Service Awards program honors three categories
  of staff employees: those who have reached a five-year longevity milesto
 ne in their years of service to the university\, those who have been sele
 cted for the Staff Excellence in University Service Award\, and those who
  have been selected for the Staff Excellence in Community Service Award.&lt;
 /p&gt;\n&lt;p&gt;Special event shuttles will operate from 10:30 a.m.-2 p.m.\, runn
 ing from Carrington Hall to Hammons Student Center with a stop at Glass H
 all\; and from the Park Central Office Building to Hammons Student Center
  with a stop at the Morris Center.&lt;/p&gt;\n&lt;p&gt;Attendees are encouraged to we
 ar Bearwear or dress in theme with the program.&amp;nbsp\;&lt;/p&gt;&lt;/body&gt;&lt;/html&gt;
DTSTART;TZID=America/Chicago:20230110T113000
DTEND;TZID=America/Chicago:20230110T133000
SEQUENCE:0
URL:116638.jpg
CATEGORIES:Staff
END:VEVENT
END:VCALENDAR