BEGIN:VCALENDAR
VERSION:2.0
METHOD:PUBLISH
PRODID:-//Missouri State University/Calendar of Events//EN
CALSCALE:GREGORIAN
X-WR-TIMEZONE:America/Chicago
BEGIN:VTIMEZONE
TZID:America/Chicago
BEGIN:DAYLIGHT
TZOFFSETFROM:-0600
TZOFFSETTO:-0500
DTSTART:20070311T020000
RRULE:FREQ=YEARLY;BYMONTH=3;BYDAY=2SU
TZNAME:CDT
END:DAYLIGHT
BEGIN:STANDARD
TZOFFSETFROM:-0500
TZOFFSETTO:-0600
DTSTART:20071104T020000
RRULE:FREQ=YEARLY;BYMONTH=11;BYDAY=1SU
TZNAME:CST
END:STANDARD
END:VTIMEZONE
BEGIN:VEVENT
UID:960c88bc-e9cf-4b89-977a-c8e7f42e6f42.222553@calendar.missouristate.edu
CREATED:20221013T174834Z
LAST-MODIFIED:20221013T174834Z
LOCATION:Darr Agricultural Center Bond Learning Center
SUMMARY:Health Disparities Initiative Conference
DESCRIPTION:Organizations working on Missouri health disparities will come
  together for a conference.\n\n\nContact the event contact for more infor
 mation or to register.
X-ALT-DESC;FMTTYPE=text/html:&lt;html&gt;&lt;head&gt;&lt;title&gt;&lt;/title&gt;&lt;/head&gt;&lt;body&gt;&lt;p&gt;Or
 ganizations working on Missouri health disparities will come together for
  a conference.&lt;/p&gt;\n&lt;p&gt;Contact the event contact for more information or 
 to register.&lt;/p&gt;&lt;/body&gt;&lt;/html&gt;
DTSTART;TZID=America/Chicago:20221115T083000
DTEND;TZID=America/Chicago:20221115T160000
SEQUENCE:2
URL:116641.jpg
CATEGORIES:Public
END:VEVENT
END:VCALENDAR