BEGIN:VCALENDAR
VERSION:2.0
METHOD:PUBLISH
PRODID:-//Missouri State University/Calendar of Events//EN
CALSCALE:GREGORIAN
X-WR-TIMEZONE:America/Chicago
BEGIN:VTIMEZONE
TZID:America/Chicago
BEGIN:DAYLIGHT
TZOFFSETFROM:-0600
TZOFFSETTO:-0500
DTSTART:20070311T020000
RRULE:FREQ=YEARLY;BYMONTH=3;BYDAY=2SU
TZNAME:CDT
END:DAYLIGHT
BEGIN:STANDARD
TZOFFSETFROM:-0500
TZOFFSETTO:-0600
DTSTART:20071104T020000
RRULE:FREQ=YEARLY;BYMONTH=11;BYDAY=1SU
TZNAME:CST
END:STANDARD
END:VTIMEZONE
BEGIN:VEVENT
UID:5785eba3-abe1-498a-a215-c74e78721837.222554@calendar.missouristate.edu
CREATED:20221006T170124Z
LAST-MODIFIED:20221006T170124Z
LOCATION:Plaster Student Union\, Robert W. Grand Ballroom
SUMMARY:2022 Wall of Fame Induction Ceremony
DESCRIPTION:This annual event celebrates former faculty and staff members 
 who have excelled at Missouri State and significantly contributed to the 
 success and positive collegiate experience of students.\n\n\n2022 Honoree
 s\n\n\n\nDr. Yohannan Abraham\nDr. Dana Carroll\nLynn Cline\nJerry Hoover
 \nStephanie C. Marinec\nDr. David Oatman
X-ALT-DESC;FMTTYPE=text/html:&lt;html&gt;&lt;head&gt;&lt;title&gt;&lt;/title&gt;&lt;/head&gt;&lt;body&gt;&lt;p&gt;Th
 is annual event celebrates former faculty and staff members who have exce
 lled at Missouri State and significantly contributed to the success and p
 ositive collegiate experience of students.&lt;/p&gt;\n&lt;p&gt;&lt;strong&gt;2022 Honorees&lt;
 /strong&gt;&lt;/p&gt;\n&lt;ul&gt;\n&lt;li&gt;Dr. Yohannan Abraham&lt;/li&gt;\n&lt;li&gt;Dr. Dana Carroll&lt;/
 li&gt;\n&lt;li&gt;Lynn Cline&lt;/li&gt;\n&lt;li&gt;Jerry Hoover&lt;/li&gt;\n&lt;li&gt;Stephanie C. Marinec
 &lt;/li&gt;\n&lt;li&gt;Dr. David Oatman&lt;/li&gt;\n&lt;/ul&gt;&lt;/body&gt;&lt;/html&gt;
DTSTART;TZID=America/Chicago:20221028T160000
DTEND;TZID=America/Chicago:20221028T170000
SEQUENCE:0
URL:116642.jpg
CATEGORIES:Public,Alumni,Faculty,Staff
END:VEVENT
END:VCALENDAR