BEGIN:VCALENDAR
VERSION:2.0
METHOD:PUBLISH
PRODID:-//Missouri State University/Calendar of Events//EN
CALSCALE:GREGORIAN
X-WR-TIMEZONE:America/Chicago
BEGIN:VTIMEZONE
TZID:America/Chicago
BEGIN:DAYLIGHT
TZOFFSETFROM:-0600
TZOFFSETTO:-0500
DTSTART:20070311T020000
RRULE:FREQ=YEARLY;BYMONTH=3;BYDAY=2SU
TZNAME:CDT
END:DAYLIGHT
BEGIN:STANDARD
TZOFFSETFROM:-0500
TZOFFSETTO:-0600
DTSTART:20071104T020000
RRULE:FREQ=YEARLY;BYMONTH=11;BYDAY=1SU
TZNAME:CST
END:STANDARD
END:VTIMEZONE
BEGIN:VEVENT
UID:48539705-8b1d-4ffc-bb0f-118220968ae7.222556@calendar.missouristate.edu
CREATED:20221003T150349Z
LAST-MODIFIED:20221003T150349Z
LOCATION:Plaster Student Union\, Robert W. 101- MRC ZOOM: https://missouri
 state.zoom.us/j/2068273856
SUMMARY:Queer Person of Color Panel 
DESCRIPTION:Come and join us for a Queer Peson of Color Panel. You will he
 ar experiences from our staff\, faculty\, and students. 
X-ALT-DESC;FMTTYPE=text/html:&lt;html&gt;&lt;head&gt;&lt;title&gt;&lt;/title&gt;&lt;/head&gt;&lt;body&gt;&lt;p&gt;Co
 me and join us for a Queer Peson of Color Panel. You will hear experience
 s from our staff\, faculty\, and students.&amp;nbsp\;&lt;/p&gt;&lt;/body&gt;&lt;/html&gt;
DTSTART;TZID=America/Chicago:20221003T140000
DTEND;TZID=America/Chicago:20221003T153000
SEQUENCE:0
URL:https://calendar.missouristate.edu/viewevent.aspx?eventid=116644&amp;occur
 renceid=222556
CATEGORIES:Current Students,Faculty,Staff
END:VEVENT
END:VCALENDAR