BEGIN:VCALENDAR
VERSION:2.0
METHOD:PUBLISH
PRODID:-//Missouri State University/Calendar of Events//EN
CALSCALE:GREGORIAN
X-WR-TIMEZONE:America/Chicago
BEGIN:VTIMEZONE
TZID:America/Chicago
BEGIN:DAYLIGHT
TZOFFSETFROM:-0600
TZOFFSETTO:-0500
DTSTART:20070311T020000
RRULE:FREQ=YEARLY;BYMONTH=3;BYDAY=2SU
TZNAME:CDT
END:DAYLIGHT
BEGIN:STANDARD
TZOFFSETFROM:-0500
TZOFFSETTO:-0600
DTSTART:20071104T020000
RRULE:FREQ=YEARLY;BYMONTH=11;BYDAY=1SU
TZNAME:CST
END:STANDARD
END:VTIMEZONE
BEGIN:VEVENT
UID:9e0cbb80-b711-4c35-81ba-d79739d2e9af.222557@calendar.missouristate.edu
CREATED:20221003T154301Z
LAST-MODIFIED:20221003T154301Z
LOCATION:Gohn Hall 110
SUMMARY:Transfer Workshop - MSU Outreach
DESCRIPTION:Transfer Workshop to provide admission information to MSU-WP s
 tudents who plan to transfer to an MSU-Springfield degree program offered
  in West Plains through MSU Outreach in Gohn Hall. Students interested in
  transferring to the main MSU campus in Springfield are welcome to attend
  as well. The event will be held in Gohn Hall at 1:00 pm on Wednesday\, O
 ctober 5\, 2022
X-ALT-DESC;FMTTYPE=text/html:&lt;html&gt;&lt;head&gt;&lt;title&gt;&lt;/title&gt;&lt;/head&gt;&lt;body&gt;&lt;p&gt;Tr
 ansfer Workshop to provide admission information to MSU-WP students who p
 lan to transfer to an MSU-Springfield degree program offered in West Plai
 ns through MSU Outreach in Gohn Hall. Students interested in transferring
  to the main MSU campus in Springfield are welcome to attend as well. The
  event will be held in Gohn Hall at 1:00 pm on Wednesday\, October 5\, 20
 22&lt;/p&gt;&lt;/body&gt;&lt;/html&gt;
DTSTART;TZID=America/Chicago:20221005T130000
DTEND;TZID=America/Chicago:20221005T143000
SEQUENCE:0
URL:116645.jpg
CATEGORIES:Public,Alumni,Current Students,Faculty,Future Students,Staff
END:VEVENT
END:VCALENDAR