BEGIN:VCALENDAR
VERSION:2.0
METHOD:PUBLISH
PRODID:-//Missouri State University/Calendar of Events//EN
CALSCALE:GREGORIAN
X-WR-TIMEZONE:America/Chicago
BEGIN:VTIMEZONE
TZID:America/Chicago
BEGIN:DAYLIGHT
TZOFFSETFROM:-0600
TZOFFSETTO:-0500
DTSTART:20070311T020000
RRULE:FREQ=YEARLY;BYMONTH=3;BYDAY=2SU
TZNAME:CDT
END:DAYLIGHT
BEGIN:STANDARD
TZOFFSETFROM:-0500
TZOFFSETTO:-0600
DTSTART:20071104T020000
RRULE:FREQ=YEARLY;BYMONTH=11;BYDAY=1SU
TZNAME:CST
END:STANDARD
END:VTIMEZONE
BEGIN:VEVENT
UID:4eb2fcfa-ffb2-4519-9df8-bc4c29feec01.222561@calendar.missouristate.edu
CREATED:20221006T151053Z
LAST-MODIFIED:20221006T151053Z
LOCATION:Meyer Library\, Duane G. 107
SUMMARY:"Words and Pictures" Opening Reception and Exhibit 
DESCRIPTION:The MSU Libraries will host an opening reception for "Words an
 d Pictures – The Power of Literacy through Portraits and Stories\,” an ex
 hibition by Randy Bacon presented by Arvest Bank and Ozarks Literacy Coun
 cil. \n\n\nLight refreshments will be served at this free and open-to-the
 -public event.\n\n\nThis portrait art exhibition features 21 beautiful\, 
 large-scale black and white portraits by Randy Bacon with corresponding h
 eartfelt stories of the power of literacy to inspire\, entertain and moti
 vate. \n\n\nThe exhibit will be displayed on the first and second floors 
 of Meyer Library through Dec. 16. 
X-ALT-DESC;FMTTYPE=text/html:&lt;html&gt;&lt;head&gt;&lt;title&gt;&lt;/title&gt;&lt;/head&gt;&lt;body&gt;&lt;p&gt;Th
 e MSU Libraries will host an opening reception for "Words and Pictures – 
 The Power of Literacy through Portraits and Stories\,” an exhibition by R
 andy Bacon presented by Arvest Bank and Ozarks Literacy Council.&amp;nbsp\;&lt;/
 p&gt;\n&lt;p&gt;Light refreshments will be served at this&amp;nbsp\;free and open-to-t
 he-public event.&lt;/p&gt;\n&lt;p&gt;This portrait art exhibition features 21 beautif
 ul\, large-scale black and white portraits by Randy Bacon with correspond
 ing heartfelt stories of the power of literacy to inspire\, entertain and
  motivate.&amp;nbsp\;&lt;/p&gt;\n&lt;p&gt;The exhibit will be displayed on the first and 
 second floors of Meyer Library through Dec. 16.&amp;nbsp\;&lt;/p&gt;\n&lt;p&gt;&lt;/p&gt;&lt;/body
 &gt;&lt;/html&gt;
DTSTART;TZID=America/Chicago:20221011T160000
DTEND;TZID=America/Chicago:20221011T170000
SEQUENCE:0
URL:116649.png
CATEGORIES:Public,Alumni,Current Students,Faculty,Future Students,Staff
END:VEVENT
END:VCALENDAR