BEGIN:VCALENDAR
VERSION:2.0
METHOD:PUBLISH
PRODID:-//Missouri State University/Calendar of Events//EN
CALSCALE:GREGORIAN
X-WR-TIMEZONE:America/Chicago
BEGIN:VTIMEZONE
TZID:America/Chicago
BEGIN:DAYLIGHT
TZOFFSETFROM:-0600
TZOFFSETTO:-0500
DTSTART:20070311T020000
RRULE:FREQ=YEARLY;BYMONTH=3;BYDAY=2SU
TZNAME:CDT
END:DAYLIGHT
BEGIN:STANDARD
TZOFFSETFROM:-0500
TZOFFSETTO:-0600
DTSTART:20071104T020000
RRULE:FREQ=YEARLY;BYMONTH=11;BYDAY=1SU
TZNAME:CST
END:STANDARD
END:VTIMEZONE
BEGIN:VEVENT
UID:ed0fcef4-37ae-4274-a5a2-ea4802cc57e9.222562@calendar.missouristate.edu
CREATED:20221004T144423Z
LAST-MODIFIED:20221004T144423Z
LOCATION:
SUMMARY:PAMS Seminar: TBA by Dr. Alice Bean
DESCRIPTION:Dr. Alice BeanDepartment of Physics and AstronomyUniversity of
  Kansas\n\n\nAbstract: TBA\n\n\nThis seminar will be given via Zoom.
X-ALT-DESC;FMTTYPE=text/html:&lt;html&gt;&lt;head&gt;&lt;title&gt;&lt;/title&gt;&lt;/head&gt;&lt;body&gt;&lt;p&gt;&lt;b
 &gt;Dr.&amp;nbsp\;Alice Bean&lt;/b&gt;&lt;br&gt;&lt;b&gt;Department of&amp;nbsp\;Physics and Astronomy
 &lt;br&gt;&lt;/b&gt;&lt;b&gt;University&amp;nbsp\;of Kansas&lt;/b&gt;&lt;/p&gt;\n&lt;p&gt;Abstract: TBA&lt;/p&gt;\n&lt;p&gt;T
 his seminar will be given via Zoom.&lt;/p&gt;&lt;/body&gt;&lt;/html&gt;
DTSTART;TZID=America/Chicago:20221020T160000
DTEND;TZID=America/Chicago:20221020T170000
SEQUENCE:0
URL:https://physics.missouristate.edu/seminars.htm
CATEGORIES:Public,Alumni,Current Students,Faculty,Future Students,Staff
END:VEVENT
END:VCALENDAR