BEGIN:VCALENDAR
VERSION:2.0
METHOD:PUBLISH
PRODID:-//Missouri State University/Calendar of Events//EN
CALSCALE:GREGORIAN
X-WR-TIMEZONE:America/Chicago
BEGIN:VTIMEZONE
TZID:America/Chicago
BEGIN:DAYLIGHT
TZOFFSETFROM:-0600
TZOFFSETTO:-0500
DTSTART:20070311T020000
RRULE:FREQ=YEARLY;BYMONTH=3;BYDAY=2SU
TZNAME:CDT
END:DAYLIGHT
BEGIN:STANDARD
TZOFFSETFROM:-0500
TZOFFSETTO:-0600
DTSTART:20071104T020000
RRULE:FREQ=YEARLY;BYMONTH=11;BYDAY=1SU
TZNAME:CST
END:STANDARD
END:VTIMEZONE
BEGIN:VEVENT
UID:21d9eeb2-2c02-446a-a629-b6ca372fb9fe.222569@calendar.missouristate.edu
CREATED:20221013T153859Z
LAST-MODIFIED:20221013T153859Z
LOCATION:Hill Hall 0002
SUMMARY:GER Club Fundraiser 
DESCRIPTION:Please support the Gerontology Club by attending our Panera* F
 undraiser.\n\n\nSimply show our flyer at checkout to help us raise money 
 to benefit our Sharing with Elders event this semester!\n\n\nAfter grabbi
 ng your food at Panera\, feel free to join us in Hill 0002 at 5 p.m. to w
 atch an aging-related film. \n\n\n*only at the Panera on National and Elm.
X-ALT-DESC;FMTTYPE=text/html:&lt;html&gt;&lt;head&gt;&lt;title&gt;&lt;/title&gt;&lt;/head&gt;&lt;body&gt;&lt;p&gt;Pl
 ease support the Gerontology Club by attending our Panera* Fundraiser.&lt;/p
 &gt;\n&lt;p&gt;Simply show our flyer at checkout to help us raise money to benefit
  our Sharing with Elders event this semester!&lt;/p&gt;\n&lt;p&gt;After grabbing your
  food at Panera\, feel free to join us in Hill 0002 at 5 p.m. to watch an
  aging-related film.&amp;nbsp\;&lt;/p&gt;\n&lt;p&gt;*only at the Panera on National and E
 lm.&lt;/p&gt;&lt;/body&gt;&lt;/html&gt;
DTSTART;TZID=America/Chicago:20221019T160000
DTEND;TZID=America/Chicago:20221019T200000
SEQUENCE:0
URL:116657.jpg
CATEGORIES:Public,Alumni,Current Students,Faculty
END:VEVENT
END:VCALENDAR