BEGIN:VCALENDAR
VERSION:2.0
METHOD:PUBLISH
PRODID:-//Missouri State University/Calendar of Events//EN
CALSCALE:GREGORIAN
X-WR-TIMEZONE:America/Chicago
BEGIN:VTIMEZONE
TZID:America/Chicago
BEGIN:DAYLIGHT
TZOFFSETFROM:-0600
TZOFFSETTO:-0500
DTSTART:20070311T020000
RRULE:FREQ=YEARLY;BYMONTH=3;BYDAY=2SU
TZNAME:CDT
END:DAYLIGHT
BEGIN:STANDARD
TZOFFSETFROM:-0500
TZOFFSETTO:-0600
DTSTART:20071104T020000
RRULE:FREQ=YEARLY;BYMONTH=11;BYDAY=1SU
TZNAME:CST
END:STANDARD
END:VTIMEZONE
BEGIN:VEVENT
UID:f78bacc6-8cc8-49bf-acea-1137be0172f4.222581@calendar.missouristate.edu
CREATED:20221006T051518Z
LAST-MODIFIED:20221006T051518Z
LOCATION:Conway\, Ark.
SUMMARY:CANCELLED Missouri State University Baseball at Central Arkansas
DESCRIPTION:CANCELLED Missouri State University Baseball visits Central Ar
 kansas
X-ALT-DESC;FMTTYPE=text/html:&lt;html&gt;&lt;head&gt;&lt;title&gt;&lt;/title&gt;&lt;/head&gt;&lt;body&gt;CANCE
 LLED Missouri State University Baseball visits Central Arkansas&lt;/body&gt;&lt;/h
 tml&gt;
DTSTART;TZID=America/Chicago:20230426T150000
DTEND;TZID=America/Chicago:20230426T180000
SEQUENCE:1
URL:http://missouristatebears.com/index.aspx?path=baseball
CATEGORIES:Current Students,Future Students,Parents and Family,Alumni,
 Faculty,Staff,Community,Visitors,Athletics
END:VEVENT
END:VCALENDAR