BEGIN:VCALENDAR
VERSION:2.0
METHOD:PUBLISH
PRODID:-//Missouri State University/Calendar of Events//EN
CALSCALE:GREGORIAN
X-WR-TIMEZONE:America/Chicago
BEGIN:VTIMEZONE
TZID:America/Chicago
BEGIN:DAYLIGHT
TZOFFSETFROM:-0600
TZOFFSETTO:-0500
DTSTART:20070311T020000
RRULE:FREQ=YEARLY;BYMONTH=3;BYDAY=2SU
TZNAME:CDT
END:DAYLIGHT
BEGIN:STANDARD
TZOFFSETFROM:-0500
TZOFFSETTO:-0600
DTSTART:20071104T020000
RRULE:FREQ=YEARLY;BYMONTH=11;BYDAY=1SU
TZNAME:CST
END:STANDARD
END:VTIMEZONE
BEGIN:VEVENT
UID:c077af88-e8ff-4795-a037-5af9a6bc3a63.222591@calendar.missouristate.edu
CREATED:20221006T051519Z
LAST-MODIFIED:20221006T051519Z
LOCATION:Hammons Field
SUMMARY:Missouri State University Baseball vs Evansville - Raffle for 32" 
 TV
DESCRIPTION:Missouri State University Baseball hosts Evansville - Raffle f
 or 32" TV
X-ALT-DESC;FMTTYPE=text/html:&lt;html&gt;&lt;head&gt;&lt;title&gt;&lt;/title&gt;&lt;/head&gt;&lt;body&gt;Misso
 uri State University Baseball hosts Evansville - Raffle for 32" TV&lt;/body&gt;
 &lt;/html&gt;
DTSTART;TZID=America/Chicago:20230325T120000
DTEND;TZID=America/Chicago:20230325T150000
SEQUENCE:1
URL:http://missouristatebears.com/index.aspx?path=baseball
CATEGORIES:Current Students,Future Students,Parents and Family,Alumni,
 Faculty,Staff,Community,Visitors,Athletics
END:VEVENT
END:VCALENDAR