BEGIN:VCALENDAR
VERSION:2.0
METHOD:PUBLISH
PRODID:-//Missouri State University/Calendar of Events//EN
CALSCALE:GREGORIAN
X-WR-TIMEZONE:America/Chicago
BEGIN:VTIMEZONE
TZID:America/Chicago
BEGIN:DAYLIGHT
TZOFFSETFROM:-0600
TZOFFSETTO:-0500
DTSTART:20070311T020000
RRULE:FREQ=YEARLY;BYMONTH=3;BYDAY=2SU
TZNAME:CDT
END:DAYLIGHT
BEGIN:STANDARD
TZOFFSETFROM:-0500
TZOFFSETTO:-0600
DTSTART:20071104T020000
RRULE:FREQ=YEARLY;BYMONTH=11;BYDAY=1SU
TZNAME:CST
END:STANDARD
END:VTIMEZONE
BEGIN:VEVENT
UID:3ce50053-4010-416f-b1e3-3846c97a57b9.222602@calendar.missouristate.edu
CREATED:20221006T051520Z
LAST-MODIFIED:20221006T051520Z
LOCATION:Hammons Field
SUMMARY:Missouri State University Baseball vs Missouri - Pregame Tailgate&lt;
 br /&gt;Football Night ($3 ticket for FB season ticket holders)&lt;br /&gt;Prize D
 rawing
DESCRIPTION:Missouri State University Baseball hosts Missouri - Pregame Ta
 ilgateFootball Night ($3 ticket for FB season ticket holders)Prize Drawing
X-ALT-DESC;FMTTYPE=text/html:&lt;html&gt;&lt;head&gt;&lt;title&gt;&lt;/title&gt;&lt;/head&gt;&lt;body&gt;Misso
 uri State University Baseball hosts Missouri - Pregame Tailgate&lt;br /&gt;Foot
 ball Night ($3 ticket for FB season ticket holders)&lt;br /&gt;Prize Drawing&lt;/b
 ody&gt;&lt;/html&gt;
DTSTART;TZID=America/Chicago:20230411T183000
DTEND;TZID=America/Chicago:20230411T213000
SEQUENCE:0
URL:http://missouristatebears.com/index.aspx?path=baseball
CATEGORIES:Current Students,Future Students,Parents and Family,Alumni,
 Faculty,Staff,Community,Visitors,Athletics
END:VEVENT
END:VCALENDAR