BEGIN:VCALENDAR
VERSION:2.0
METHOD:PUBLISH
PRODID:-//Missouri State University/Calendar of Events//EN
CALSCALE:GREGORIAN
X-WR-TIMEZONE:America/Chicago
BEGIN:VTIMEZONE
TZID:America/Chicago
BEGIN:DAYLIGHT
TZOFFSETFROM:-0600
TZOFFSETTO:-0500
DTSTART:20070311T020000
RRULE:FREQ=YEARLY;BYMONTH=3;BYDAY=2SU
TZNAME:CDT
END:DAYLIGHT
BEGIN:STANDARD
TZOFFSETFROM:-0500
TZOFFSETTO:-0600
DTSTART:20071104T020000
RRULE:FREQ=YEARLY;BYMONTH=11;BYDAY=1SU
TZNAME:CST
END:STANDARD
END:VTIMEZONE
BEGIN:VEVENT
UID:814cf43f-cd67-4e4f-835f-cf25bca97541.222611@calendar.missouristate.edu
CREATED:20221006T051521Z
LAST-MODIFIED:20221006T051521Z
LOCATION:Hammons Field
SUMMARY:Missouri State University Baseball vs Valparaiso - Prize drawing f
 or mini speaker&lt;br /&gt;FSL Night
DESCRIPTION:Missouri State University Baseball hosts Valparaiso - Prize dr
 awing for mini speakerFSL Night
X-ALT-DESC;FMTTYPE=text/html:&lt;html&gt;&lt;head&gt;&lt;title&gt;&lt;/title&gt;&lt;/head&gt;&lt;body&gt;Misso
 uri State University Baseball hosts Valparaiso - Prize drawing for mini s
 peaker&lt;br /&gt;FSL Night&lt;/body&gt;&lt;/html&gt;
DTSTART;TZID=America/Chicago:20230428T183000
DTEND;TZID=America/Chicago:20230428T213000
SEQUENCE:0
URL:http://missouristatebears.com/index.aspx?path=baseball
CATEGORIES:Current Students,Future Students,Parents and Family,Alumni,
 Faculty,Staff,Community,Visitors,Athletics
END:VEVENT
END:VCALENDAR