BEGIN:VCALENDAR
VERSION:2.0
METHOD:PUBLISH
PRODID:-//Missouri State University/Calendar of Events//EN
CALSCALE:GREGORIAN
X-WR-TIMEZONE:America/Chicago
BEGIN:VTIMEZONE
TZID:America/Chicago
BEGIN:DAYLIGHT
TZOFFSETFROM:-0600
TZOFFSETTO:-0500
DTSTART:20070311T020000
RRULE:FREQ=YEARLY;BYMONTH=3;BYDAY=2SU
TZNAME:CDT
END:DAYLIGHT
BEGIN:STANDARD
TZOFFSETFROM:-0500
TZOFFSETTO:-0600
DTSTART:20071104T020000
RRULE:FREQ=YEARLY;BYMONTH=11;BYDAY=1SU
TZNAME:CST
END:STANDARD
END:VTIMEZONE
BEGIN:VEVENT
UID:9ac1d1d7-22c1-47eb-9a1b-8263f5429567.222624@calendar.missouristate.edu
CREATED:20221006T051523Z
LAST-MODIFIED:20221006T051523Z
LOCATION:Hammons Field
SUMMARY:Missouri State University Baseball vs Indiana State - Senior Day
DESCRIPTION:Missouri State University Baseball hosts Indiana State - Senio
 r Day
X-ALT-DESC;FMTTYPE=text/html:&lt;html&gt;&lt;head&gt;&lt;title&gt;&lt;/title&gt;&lt;/head&gt;&lt;body&gt;Misso
 uri State University Baseball hosts Indiana State - Senior Day&lt;/body&gt;&lt;/ht
 ml&gt;
DTSTART;TZID=America/Chicago:20230520T153000
DTEND;TZID=America/Chicago:20230520T183000
SEQUENCE:1
URL:http://missouristatebears.com/index.aspx?path=baseball
CATEGORIES:Current Students,Future Students,Parents and Family,Alumni,
 Faculty,Staff,Community,Visitors,Athletics
END:VEVENT
END:VCALENDAR