BEGIN:VCALENDAR
VERSION:2.0
METHOD:PUBLISH
PRODID:-//Missouri State University/Calendar of Events//EN
CALSCALE:GREGORIAN
X-WR-TIMEZONE:America/Chicago
BEGIN:VTIMEZONE
TZID:America/Chicago
BEGIN:DAYLIGHT
TZOFFSETFROM:-0600
TZOFFSETTO:-0500
DTSTART:20070311T020000
RRULE:FREQ=YEARLY;BYMONTH=3;BYDAY=2SU
TZNAME:CDT
END:DAYLIGHT
BEGIN:STANDARD
TZOFFSETFROM:-0500
TZOFFSETTO:-0600
DTSTART:20071104T020000
RRULE:FREQ=YEARLY;BYMONTH=11;BYDAY=1SU
TZNAME:CST
END:STANDARD
END:VTIMEZONE
BEGIN:VEVENT
UID:40e5ae55-e3b2-4603-8705-1810e6823c38.222637@calendar.missouristate.edu
CREATED:20221018T134818Z
LAST-MODIFIED:20221018T134818Z
LOCATION:Meyer Library\, Duane G. 101
SUMMARY:Chemistry &amp; Biochemistry Seminar: "The Industrious Path: A Perspec
 tive on Careers Outside of Academia"
DESCRIPTION:The Chemistry and Biochemistry department will host Zach Wilso
 n\, chemist with the City of Springfield.\n\n\nAs undergraduate and gradu
 ate students\, many paths lay ahead of you. Of these paths\, there are th
 ree prominent directions possible for your future careers.\n\n\n\nAcademi
 a\, where you will hone your craft until you are a leading expert in your
  field of research while educating others.\nIndustry\, where you will use
  your acquired skills in direct real-world applications that will have yo
 u working with a team of professionals to ensure quality production of go
 ods and services.\nGovernment\, as a scientific authority to enforce the 
 safety of your community using the tools provided by your education. \n\n
 \n\n\nWilson has walked all three of these pathways and his career now in
 volves working with the Springfield\, Missouri\, government in the field 
 of environmental science. He's currently the nutrient chemist at the Sout
 hwest Wastewater Treatment Plant (SWTP). He'll talk about what he does fo
 r our community and how he got to this position in the first place.\n\n\n
 Deciding where to take your career is a personal decision\, but hopefully
  an easier one after this presentation.
X-ALT-DESC;FMTTYPE=text/html:&lt;html&gt;&lt;head&gt;&lt;title&gt;&lt;/title&gt;&lt;/head&gt;&lt;body&gt;&lt;p&gt;&lt;s
 pan&gt;The Chemistry and Biochemistry department will host Zach Wilson\, che
 mist with the City of Springfield.&lt;/span&gt;&lt;/p&gt;\n&lt;p&gt;As undergraduate and gr
 aduate students\, many paths lay ahead of you. Of these paths\, there are
  three prominent directions possible for your future careers.&lt;/p&gt;\n&lt;ul&gt;\n
 &lt;li&gt;Academia\, where you will hone your craft until you are a leading exp
 ert in your field of research while educating others.&lt;/li&gt;\n&lt;li&gt;Industry\
 , where you will use your acquired skills in direct real-world applicatio
 ns that will have you working with a team of professionals to ensure qual
 ity production of goods and services.&lt;/li&gt;\n&lt;li&gt;Government\, as a scienti
 fic authority to enforce the safety of your community using the tools pro
 vided by your education.&amp;nbsp\;&lt;/li&gt;\n&lt;/ul&gt;\n&lt;p&gt;&lt;/p&gt;\n&lt;p&gt;Wilson has&amp;nbsp\
 ;walked all three of these pathways and&amp;nbsp\;his career now involves wor
 king with the Springfield\, Missouri\, government in the field of environ
 mental science. He's currently the nutrient chemist at the Southwest Wast
 ewater Treatment Plant (SWTP). He'll talk about what&amp;nbsp\;he does for ou
 r community and&amp;nbsp\;how he got&amp;nbsp\;to this position in the first plac
 e.&lt;/p&gt;\n&lt;p&gt;Deciding where to take your career is a personal decision\, bu
 t hopefully an easier one after this presentation.&lt;/p&gt;&lt;/body&gt;&lt;/html&gt;
DTSTART;TZID=America/Chicago:20221026T153500
DTEND;TZID=America/Chicago:20221026T162500
SEQUENCE:0
URL:https://chemistry.missouristate.edu/Seminars.htm
CATEGORIES:Public,Alumni,Current Students,Faculty,Future Students,Staff
END:VEVENT
END:VCALENDAR