BEGIN:VCALENDAR
VERSION:2.0
METHOD:PUBLISH
PRODID:-//Missouri State University/Calendar of Events//EN
CALSCALE:GREGORIAN
X-WR-TIMEZONE:America/Chicago
BEGIN:VTIMEZONE
TZID:America/Chicago
BEGIN:DAYLIGHT
TZOFFSETFROM:-0600
TZOFFSETTO:-0500
DTSTART:20070311T020000
RRULE:FREQ=YEARLY;BYMONTH=3;BYDAY=2SU
TZNAME:CDT
END:DAYLIGHT
BEGIN:STANDARD
TZOFFSETFROM:-0500
TZOFFSETTO:-0600
DTSTART:20071104T020000
RRULE:FREQ=YEARLY;BYMONTH=11;BYDAY=1SU
TZNAME:CST
END:STANDARD
END:VTIMEZONE
BEGIN:VEVENT
UID:00000000-0000-0000-0000-000000000000.222659@calendar.missouristate.edu
CREATED:20221013T144623Z
LAST-MODIFIED:20221013T144623Z
LOCATION:To Be Determined
SUMMARY:70th Anniversary Bear Battalion Ball
DESCRIPTION:Join us in celebrating the proud tradition of the Bear Battali
 on with the presentation of our Nation’s colors\, a POW/MIA and fallen so
 ldier tribute and enjoy the camaraderie of fellow friends and Soldiers.\n
 \n\n 
X-ALT-DESC;FMTTYPE=text/html:&lt;html&gt;&lt;head&gt;&lt;title&gt;&lt;/title&gt;&lt;/head&gt;&lt;body&gt;&lt;p&gt;Jo
 in us in celebrating the proud tradition of the Bear Battalion with the p
 resentation of our Nation&amp;rsquo\;s colors\, a POW/MIA and fallen soldier 
 tribute and enjoy the camaraderie of fellow friends and Soldiers.&lt;/p&gt;\n&lt;p
 &gt;&amp;nbsp\;&lt;/p&gt;&lt;/body&gt;&lt;/html&gt;
DTSTART;TZID=America/Chicago:20221111T170000
DTEND;TZID=America/Chicago:20221111T230000
SEQUENCE:0
URL:https://missouristate.imodules.com?sid=1691&amp;gid=2&amp;pgid=2934&amp;cid=5195&amp;e
 cid=5195&amp;ciid=17262&amp;crid=0
CATEGORIES:Public,Alumni,Parents and Family,Visitors
END:VEVENT
END:VCALENDAR