BEGIN:VCALENDAR
VERSION:2.0
METHOD:PUBLISH
PRODID:-//Missouri State University/Calendar of Events//EN
CALSCALE:GREGORIAN
X-WR-TIMEZONE:America/Chicago
BEGIN:VTIMEZONE
TZID:America/Chicago
BEGIN:DAYLIGHT
TZOFFSETFROM:-0600
TZOFFSETTO:-0500
DTSTART:20070311T020000
RRULE:FREQ=YEARLY;BYMONTH=3;BYDAY=2SU
TZNAME:CDT
END:DAYLIGHT
BEGIN:STANDARD
TZOFFSETFROM:-0500
TZOFFSETTO:-0600
DTSTART:20071104T020000
RRULE:FREQ=YEARLY;BYMONTH=11;BYDAY=1SU
TZNAME:CST
END:STANDARD
END:VTIMEZONE
BEGIN:VEVENT
UID:046c8744-ba80-47db-a074-cad611b83802.222660@calendar.missouristate.edu
CREATED:20221013T172010Z
LAST-MODIFIED:20221013T172010Z
LOCATION:Plaster Student Union\, Robert W. 101
SUMMARY:Leadership Expo
DESCRIPTION:Stop by the Multicultural Resource Center to enjoy refreshment
 s and learn about PAID Leadership opportunities on campus. University Amb
 assadors and SOAR Leaders will be there with cookies to provide details a
 bout applying for these positions and their many benefits.
X-ALT-DESC;FMTTYPE=text/html:&lt;html&gt;&lt;head&gt;&lt;title&gt;&lt;/title&gt;&lt;/head&gt;&lt;body&gt;&lt;p&gt;St
 op by the Multicultural Resource Center to enjoy refreshments and learn a
 bout PAID Leadership opportunities on campus. University Ambassadors and 
 SOAR Leaders will be there with cookies to provide details about applying
  for these positions and their many benefits.&lt;/p&gt;\n&lt;p&gt;&lt;/p&gt;\n&lt;p&gt;&lt;/p&gt;&lt;/body
 &gt;&lt;/html&gt;
DTSTART;TZID=America/Chicago:20221017T130000
DTEND;TZID=America/Chicago:20221017T160000
SEQUENCE:0
URL:https://calendar.missouristate.edu/viewevent.aspx?eventid=116725&amp;occur
 renceid=222660
CATEGORIES:Current Students
END:VEVENT
END:VCALENDAR