BEGIN:VCALENDAR
VERSION:2.0
METHOD:PUBLISH
PRODID:-//Missouri State University/Calendar of Events//EN
CALSCALE:GREGORIAN
X-WR-TIMEZONE:America/Chicago
BEGIN:VTIMEZONE
TZID:America/Chicago
BEGIN:DAYLIGHT
TZOFFSETFROM:-0600
TZOFFSETTO:-0500
DTSTART:20070311T020000
RRULE:FREQ=YEARLY;BYMONTH=3;BYDAY=2SU
TZNAME:CDT
END:DAYLIGHT
BEGIN:STANDARD
TZOFFSETFROM:-0500
TZOFFSETTO:-0600
DTSTART:20071104T020000
RRULE:FREQ=YEARLY;BYMONTH=11;BYDAY=1SU
TZNAME:CST
END:STANDARD
END:VTIMEZONE
BEGIN:VEVENT
UID:a506c1dd-c966-4c3a-8ba5-4e092a923a0c.222661@calendar.missouristate.edu
CREATED:20221014T144059Z
LAST-MODIFIED:20221014T144059Z
LOCATION:Plaster Student Union\, Robert W. 315
SUMMARY:Gaining Cultural Superpowers for Employment Opportunities/Advancem
 ent through Education Abroad 
DESCRIPTION:Education abroad is a High Impact Practice – meaning it brings
  huge opportunities for growth during an intense period. Education Abroad
  experiences include gaining skills that are not only useful while studen
 ts are in another country\, but these are also transferable skills\, usef
 ul in every other aspect of life. This session will share the cultural su
 perpowers that can be acquired or strengthen through engaged study abroad
 \, as well as testimonies about how those superpowers prepare students fo
 r employment in an evolving world. Join Ivan Munoz\, Area Sales Manager\,
  International Division\, Inc.\, Dr. Barri Tinkler\, Dean\, COE\, and Des
 mond Warren\, MSU Education Abroad alumnus\, for a panel discussion facil
 itated by Elizabeth Strong\, Director\, Education Abroad\, for conversati
 on about education abroad’s impact on employability and career advancemen
 t. One student attendee will win funding for a free passport!
X-ALT-DESC;FMTTYPE=text/html:&lt;html&gt;&lt;head&gt;&lt;title&gt;&lt;/title&gt;&lt;/head&gt;&lt;body&gt;&lt;p&gt;Ed
 ucation abroad is a High Impact Practice – meaning it brings huge opportu
 nities for growth during an intense period. Education Abroad experiences 
 include gaining skills that are not only useful while students are in ano
 ther country\, but these are also transferable skills\, useful in every o
 ther aspect of life. This session will share the cultural superpowers tha
 t can be acquired or strengthen through engaged study abroad\, as well as
  testimonies about how those superpowers prepare students for employment 
 in an evolving world. Join Ivan Munoz\, Area Sales Manager\, Internationa
 l Division\, Inc.\, Dr. Barri Tinkler\, Dean\, COE\, and Desmond Warren\,
  MSU Education Abroad alumnus\, for a panel discussion facilitated by Eli
 zabeth Strong\, Director\, Education Abroad\, for conversation about educ
 ation abroad’s impact on employability and career advancement. One studen
 t attendee will win funding for a free passport!&lt;/p&gt;&lt;/body&gt;&lt;/html&gt;
DTSTART;TZID=America/Chicago:20221110T103000
DTEND;TZID=America/Chicago:20221110T112000
SEQUENCE:0
URL:https://international.missouristate.edu/great-conference-2022.htm
CATEGORIES:Current Students,Faculty,Staff
END:VEVENT
END:VCALENDAR