BEGIN:VCALENDAR
VERSION:2.0
METHOD:PUBLISH
PRODID:-//Missouri State University/Calendar of Events//EN
CALSCALE:GREGORIAN
X-WR-TIMEZONE:America/Chicago
BEGIN:VTIMEZONE
TZID:America/Chicago
BEGIN:DAYLIGHT
TZOFFSETFROM:-0600
TZOFFSETTO:-0500
DTSTART:20070311T020000
RRULE:FREQ=YEARLY;BYMONTH=3;BYDAY=2SU
TZNAME:CDT
END:DAYLIGHT
BEGIN:STANDARD
TZOFFSETFROM:-0500
TZOFFSETTO:-0600
DTSTART:20071104T020000
RRULE:FREQ=YEARLY;BYMONTH=11;BYDAY=1SU
TZNAME:CST
END:STANDARD
END:VTIMEZONE
BEGIN:VEVENT
UID:6538469a-12da-43b4-8206-02967a4a6cb6.222662@calendar.missouristate.edu
CREATED:20221013T172351Z
LAST-MODIFIED:20221013T172351Z
LOCATION:Plaster Student Union\, Robert W. 315
SUMMARY:Maximizing Cultural Awareness in Short-Term Faculty-Directed Progr
 ams
DESCRIPTION:Can students increase their cultural awareness in a one- or tw
 o-week education abroad program? The answer is YES with intentional plann
 ing. Join Elizabeth Strong\, Director\, Education Abroad\, Dr. Mary Willi
 s\, Department Head\, Sociology and Anthropology\, and Amy Huff\, Advisor
 \, Education Abroad for tips and strategies to broaden student perspectiv
 es\, gain a deeper understanding of themselves\, and develop empathy for 
 other cultures. MSU students are up to the challenge of learning what is 
 culturally appropriate and are ready to step out of their comfort zones f
 or transformational thinking! Whether you’re a veteran program director o
 r new to education abroad\, this session will provide tools to help stude
 nts grow abroad when they go abroad.
X-ALT-DESC;FMTTYPE=text/html:&lt;html&gt;&lt;head&gt;&lt;title&gt;&lt;/title&gt;&lt;/head&gt;&lt;body&gt;&lt;p&gt;Ca
 n students increase their cultural awareness in a one- or two-week educat
 ion abroad program? The answer is &lt;b&gt;YES&lt;/b&gt; &lt;i&gt;&lt;span&gt;with intentional pl
 anning&lt;/span&gt;&lt;/i&gt;. Join Elizabeth Strong\, Director\, Education Abroad\, 
 Dr. Mary Willis\, Department Head\, Sociology and Anthropology\, and Amy 
 Huff\, Advisor\, Education Abroad for tips and strategies to broaden stud
 ent perspectives\, gain a deeper understanding of themselves\, and develo
 p empathy for other cultures. MSU students are up to the challenge of lea
 rning what is culturally appropriate and are ready to step out of their c
 omfort zones for transformational thinking! Whether you’re a veteran prog
 ram director or new to education abroad\, this session will provide tools
  to help students &lt;i&gt;grow&lt;/i&gt; abroad when they &lt;i&gt;go &lt;/i&gt;abroad. &lt;/p&gt;\n&lt;p
 &gt;&lt;/p&gt;&lt;/body&gt;&lt;/html&gt;
DTSTART;TZID=America/Chicago:20221110T093000
DTEND;TZID=America/Chicago:20221110T102000
SEQUENCE:0
URL:https://international.missouristate.edu/great-conference-2022.htm
CATEGORIES:Faculty
END:VEVENT
END:VCALENDAR