BEGIN:VCALENDAR
VERSION:2.0
METHOD:PUBLISH
PRODID:-//Missouri State University/Calendar of Events//EN
CALSCALE:GREGORIAN
X-WR-TIMEZONE:America/Chicago
BEGIN:VTIMEZONE
TZID:America/Chicago
BEGIN:DAYLIGHT
TZOFFSETFROM:-0600
TZOFFSETTO:-0500
DTSTART:20070311T020000
RRULE:FREQ=YEARLY;BYMONTH=3;BYDAY=2SU
TZNAME:CDT
END:DAYLIGHT
BEGIN:STANDARD
TZOFFSETFROM:-0500
TZOFFSETTO:-0600
DTSTART:20071104T020000
RRULE:FREQ=YEARLY;BYMONTH=11;BYDAY=1SU
TZNAME:CST
END:STANDARD
END:VTIMEZONE
BEGIN:VEVENT
UID:f3d9ad18-c0c0-47c3-9ce7-7e1315daa36c.222663@calendar.missouristate.edu
CREATED:20221017T142310Z
LAST-MODIFIED:20221017T142310Z
LOCATION:
SUMMARY:PowerPoint Night with Ekklesia
DESCRIPTION:This will be a chance for people to come and share a PowerPoin
 t presentation about something they love with a cool group of people. You
  can do a PowerPoint about anything as long as it is respectful and appro
 priate and doesn't use harmful or exclusive language (if you have questio
 ns about this reach out to us). \,\n\n\nPlease feel free to come and have
  fun\, whether you want to give a presentation or not. It's always cool t
 o share your special interests or passions with people and this can be a 
 great way of bonding for neurodivergent (ADHD\, autistic\, etc.) people e
 specially\; so let's get to know each other a little bit while creating a
  space that welcomes neurodiversity.\n\n\nThere will be free snacks as we
 ll. Anyone is welcome!\n\n\nNote: While this is hosted by Ekklesia campus
  ministry\, it is not a religious event in any way\, and there will be no
  pressure to join Ekklesia. We just want to make a space where people who
  don't always feel welcome at typical events will feel welcome and have f
 un! \n\n\nIf you have any questions\, concerns or accessibility needs\, p
 lease reach out to Elliot Barber at sb436s@missouristate.edu.
X-ALT-DESC;FMTTYPE=text/html:&lt;html&gt;&lt;head&gt;&lt;title&gt;&lt;/title&gt;&lt;/head&gt;&lt;body&gt;&lt;p&gt;Th
 is will be a chance for people to come and share a PowerPoint presentatio
 n about something they love with a cool group of people. You can do a Pow
 erPoint about anything as long as it is respectful and appropriate and do
 esn't use harmful or exclusive language (if you have questions about this
  reach out to us).&amp;nbsp\;\,&lt;/p&gt;\n&lt;p&gt;Please feel free to come and have fun
 \, whether you want to give a presentation or not. It's always cool to sh
 are your special interests or passions with people and this can be a grea
 t way of bonding for neurodivergent (ADHD\, autistic\, etc.) people espec
 ially\; so let's get to know each other a little bit while creating a spa
 ce that welcomes neurodiversity.&lt;/p&gt;\n&lt;p&gt;There will be free snacks as wel
 l. Anyone is welcome!&lt;/p&gt;\n&lt;p&gt;Note: While this is hosted by Ekklesia camp
 us ministry\, it is not a religious event in any way\, and there will be 
 no pressure to join Ekklesia. We just want to make a space where people w
 ho don't always feel welcome at typical events will feel welcome and have
  fun!&amp;nbsp\;&lt;/p&gt;\n&lt;p&gt;If you have any questions\, concerns or accessibilit
 y needs\, please reach out to Elliot Barber at sb436s@missouristate.edu.&lt;
 /p&gt;&lt;/body&gt;&lt;/html&gt;
DTSTART;TZID=America/Chicago:20221103T180000
DTEND;TZID=America/Chicago:20221103T200000
SEQUENCE:1
URL:http://www.ekklesiamsu.org
CATEGORIES:Public,Alumni,Current Students,Faculty,Staff
END:VEVENT
END:VCALENDAR