BEGIN:VCALENDAR
VERSION:2.0
METHOD:PUBLISH
PRODID:-//Missouri State University/Calendar of Events//EN
CALSCALE:GREGORIAN
X-WR-TIMEZONE:America/Chicago
BEGIN:VTIMEZONE
TZID:America/Chicago
BEGIN:DAYLIGHT
TZOFFSETFROM:-0600
TZOFFSETTO:-0500
DTSTART:20070311T020000
RRULE:FREQ=YEARLY;BYMONTH=3;BYDAY=2SU
TZNAME:CDT
END:DAYLIGHT
BEGIN:STANDARD
TZOFFSETFROM:-0500
TZOFFSETTO:-0600
DTSTART:20071104T020000
RRULE:FREQ=YEARLY;BYMONTH=11;BYDAY=1SU
TZNAME:CST
END:STANDARD
END:VTIMEZONE
BEGIN:VEVENT
UID:fc6136fb-8323-4ec2-b612-877ccc3c6bb6.222666@calendar.missouristate.edu
CREATED:20221017T173239Z
LAST-MODIFIED:20221017T173239Z
LOCATION:Blair-Shannon House Grand Lounge
SUMMARY:Halloween in the Halls – Safe Trick-or-Treat
DESCRIPTION:The Residence Hall Association will sponsor a safe indoor Hall
 oween experience for the children and grandchildren (ages 2 to 12) of all
  Missouri State faculty\, staff and students. Tours will start at 5:15 p.
 m. and the last tour will leave the Grand Lounge at 7:30 p.m.\n\n\nThe Pu
 mpkin Patch\, in the Blair-Shannon Grand Lounge\, will include check-in\,
  games and refreshments. All floors will be non-scary. Residents of our b
 uildings will be trained to be tour guides known as Pumpkin Pals and will
  escort the children through the residence halls.
X-ALT-DESC;FMTTYPE=text/html:&lt;html&gt;&lt;head&gt;&lt;title&gt;&lt;/title&gt;&lt;/head&gt;&lt;body&gt;&lt;p&gt;Th
 e Residence Hall Association will sponsor a safe indoor Halloween experie
 nce for the children and grandchildren (ages 2 to 12) of all Missouri Sta
 te faculty\, staff and students. Tours will start at 5:15 p.m. and the la
 st tour will leave the Grand Lounge at 7:30 p.m.&lt;/p&gt;\n&lt;p&gt;The Pumpkin Patc
 h\, in the Blair-Shannon Grand Lounge\, will include check-in\, games and
  refreshments. All floors will be non-scary. Residents of our buildings w
 ill be trained to be tour guides known as Pumpkin Pals and will escort th
 e children through the residence halls.&lt;/p&gt;&lt;/body&gt;&lt;/html&gt;
DTSTART;TZID=America/Chicago:20221102T170000
DTEND;TZID=America/Chicago:20221102T200000
SEQUENCE:0
URL:116730.jpg
CATEGORIES:Current Students,Faculty,Staff
END:VEVENT
END:VCALENDAR