BEGIN:VCALENDAR
VERSION:2.0
METHOD:PUBLISH
PRODID:-//Missouri State University/Calendar of Events//EN
CALSCALE:GREGORIAN
X-WR-TIMEZONE:America/Chicago
BEGIN:VTIMEZONE
TZID:America/Chicago
BEGIN:DAYLIGHT
TZOFFSETFROM:-0600
TZOFFSETTO:-0500
DTSTART:20070311T020000
RRULE:FREQ=YEARLY;BYMONTH=3;BYDAY=2SU
TZNAME:CDT
END:DAYLIGHT
BEGIN:STANDARD
TZOFFSETFROM:-0500
TZOFFSETTO:-0600
DTSTART:20071104T020000
RRULE:FREQ=YEARLY;BYMONTH=11;BYDAY=1SU
TZNAME:CST
END:STANDARD
END:VTIMEZONE
BEGIN:VEVENT
UID:08d2944f-6aeb-4e21-9e70-e613e733656f.222788@calendar.missouristate.edu
CREATED:20221018T185910Z
LAST-MODIFIED:20221018T185910Z
LOCATION:Plaster Student Union\, Robert W. 101 - Multicultural Resource Ce
 nter
SUMMARY:Growing up ____ &amp; Queer
DESCRIPTION:A discussion on intersectionality within the LGBTQ+ community\
 , how it affects individuals and learning about diverse identities. 
X-ALT-DESC;FMTTYPE=text/html:&lt;html&gt;&lt;head&gt;&lt;title&gt;&lt;/title&gt;&lt;/head&gt;&lt;body&gt;&lt;p&gt;A 
 discussion on intersectionality within the LGBTQ+ community\, how it affe
 cts individuals and learning about diverse identities.&amp;nbsp\;&lt;/p&gt;&lt;/body&gt;&lt;
 /html&gt;
DTSTART;TZID=America/Chicago:20221026T170000
DTEND;TZID=America/Chicago:20221026T180000
SEQUENCE:0
URL:116733.png
CATEGORIES:Current Students,Faculty,Staff
END:VEVENT
END:VCALENDAR