BEGIN:VCALENDAR
VERSION:2.0
METHOD:PUBLISH
PRODID:-//Missouri State University/Calendar of Events//EN
CALSCALE:GREGORIAN
X-WR-TIMEZONE:America/Chicago
BEGIN:VTIMEZONE
TZID:America/Chicago
BEGIN:DAYLIGHT
TZOFFSETFROM:-0600
TZOFFSETTO:-0500
DTSTART:20070311T020000
RRULE:FREQ=YEARLY;BYMONTH=3;BYDAY=2SU
TZNAME:CDT
END:DAYLIGHT
BEGIN:STANDARD
TZOFFSETFROM:-0500
TZOFFSETTO:-0600
DTSTART:20071104T020000
RRULE:FREQ=YEARLY;BYMONTH=11;BYDAY=1SU
TZNAME:CST
END:STANDARD
END:VTIMEZONE
BEGIN:VEVENT
UID:a6166606-369a-4040-bbb0-c318c6b64dea.222820@calendar.missouristate.edu
CREATED:20221020T165833Z
LAST-MODIFIED:20221020T165833Z
LOCATION:Davis-Harrington Welcome Center
SUMMARY:SAC Presents: Headphone Disco 
DESCRIPTION:Come join SAC for our Homecoming event! Free food to help danc
 e the night away.
X-ALT-DESC;FMTTYPE=text/html:&lt;html&gt;&lt;head&gt;&lt;title&gt;&lt;/title&gt;&lt;/head&gt;&lt;body&gt;&lt;p&gt;Co
 me join SAC for our Homecoming event! Free food to help dance the night a
 way.&lt;/p&gt;&lt;/body&gt;&lt;/html&gt;
DTSTART;TZID=America/Chicago:20221027T200000
DTEND;TZID=America/Chicago:20221027T230000
SEQUENCE:0
URL:116737.jpg
CATEGORIES:Current Students,Faculty,Staff
END:VEVENT
END:VCALENDAR