BEGIN:VCALENDAR
VERSION:2.0
METHOD:PUBLISH
PRODID:-//Missouri State University/Calendar of Events//EN
CALSCALE:GREGORIAN
X-WR-TIMEZONE:America/Chicago
BEGIN:VTIMEZONE
TZID:America/Chicago
BEGIN:DAYLIGHT
TZOFFSETFROM:-0600
TZOFFSETTO:-0500
DTSTART:20070311T020000
RRULE:FREQ=YEARLY;BYMONTH=3;BYDAY=2SU
TZNAME:CDT
END:DAYLIGHT
BEGIN:STANDARD
TZOFFSETFROM:-0500
TZOFFSETTO:-0600
DTSTART:20071104T020000
RRULE:FREQ=YEARLY;BYMONTH=11;BYDAY=1SU
TZNAME:CST
END:STANDARD
END:VTIMEZONE
BEGIN:VEVENT
UID:bd5f4472-cc83-4da6-a2d4-8dd3500b24e8.222821@calendar.missouristate.edu
CREATED:20221020T171753Z
LAST-MODIFIED:20221020T171753Z
LOCATION:Plaster Student Union\, Robert W. Union Club
SUMMARY:SAC Presents: Board Game Night
DESCRIPTION:Come join SAC for a night of games. Free food and fun await!
X-ALT-DESC;FMTTYPE=text/html:&lt;html&gt;&lt;head&gt;&lt;title&gt;&lt;/title&gt;&lt;/head&gt;&lt;body&gt;&lt;p&gt;Co
 me join SAC for a night of games. Free food and fun await!&lt;/p&gt;&lt;/body&gt;&lt;/ht
 ml&gt;
DTSTART;TZID=America/Chicago:20221110T190000
DTEND;TZID=America/Chicago:20221110T220000
SEQUENCE:0
URL:116738.jpg
CATEGORIES:Current Students,Faculty,Staff
END:VEVENT
END:VCALENDAR