BEGIN:VCALENDAR
VERSION:2.0
METHOD:PUBLISH
PRODID:-//Missouri State University/Calendar of Events//EN
CALSCALE:GREGORIAN
X-WR-TIMEZONE:America/Chicago
BEGIN:VTIMEZONE
TZID:America/Chicago
BEGIN:DAYLIGHT
TZOFFSETFROM:-0600
TZOFFSETTO:-0500
DTSTART:20070311T020000
RRULE:FREQ=YEARLY;BYMONTH=3;BYDAY=2SU
TZNAME:CDT
END:DAYLIGHT
BEGIN:STANDARD
TZOFFSETFROM:-0500
TZOFFSETTO:-0600
DTSTART:20071104T020000
RRULE:FREQ=YEARLY;BYMONTH=11;BYDAY=1SU
TZNAME:CST
END:STANDARD
END:VTIMEZONE
BEGIN:VEVENT
UID:2282c75c-fec6-48e5-b24c-e6e6d09923e6.222825@calendar.missouristate.edu
CREATED:20221020T165733Z
LAST-MODIFIED:20221020T165733Z
LOCATION:Plaster Student Union\, Robert W. Theater
SUMMARY:SAC Presents: Friendship Films Series - 'The Breakfast Club' 
DESCRIPTION:Come join SAC for our showing of The Breakfast Club!  Free bre
 akfast foods and prize giveaways!
X-ALT-DESC;FMTTYPE=text/html:&lt;html&gt;&lt;head&gt;&lt;title&gt;&lt;/title&gt;&lt;/head&gt;&lt;body&gt;&lt;p&gt;Co
 me join SAC for our showing of The Breakfast Club!&amp;nbsp\; Free breakfast 
 foods and prize giveaways!&lt;/p&gt;&lt;/body&gt;&lt;/html&gt;
DTSTART;TZID=America/Chicago:20221116T000000
DTEND;TZID=America/Chicago:20221116T000000
SEQUENCE:0
URL:116742.jpg
CATEGORIES:Current Students,Faculty,Staff
END:VEVENT
END:VCALENDAR